BEGIN:VCALENDAR
VERSION:2.0
PRODID:-//Artist Relief Project - ECPv6.15.14//NONSGML v1.0//EN
CALSCALE:GREGORIAN
METHOD:PUBLISH
X-ORIGINAL-URL:https://artistreliefproject.org
X-WR-CALDESC:Events for Artist Relief Project
REFRESH-INTERVAL;VALUE=DURATION:PT1H
X-Robots-Tag:noindex
X-PUBLISHED-TTL:PT1H
BEGIN:VTIMEZONE
TZID:America/Chicago
BEGIN:DAYLIGHT
TZOFFSETFROM:-0600
TZOFFSETTO:-0500
TZNAME:CDT
DTSTART:20200308T080000
END:DAYLIGHT
BEGIN:STANDARD
TZOFFSETFROM:-0500
TZOFFSETTO:-0600
TZNAME:CST
DTSTART:20201101T070000
END:STANDARD
BEGIN:DAYLIGHT
TZOFFSETFROM:-0600
TZOFFSETTO:-0500
TZNAME:CDT
DTSTART:20210314T080000
END:DAYLIGHT
BEGIN:STANDARD
TZOFFSETFROM:-0500
TZOFFSETTO:-0600
TZNAME:CST
DTSTART:20211107T070000
END:STANDARD
BEGIN:DAYLIGHT
TZOFFSETFROM:-0600
TZOFFSETTO:-0500
TZNAME:CDT
DTSTART:20220313T080000
END:DAYLIGHT
BEGIN:STANDARD
TZOFFSETFROM:-0500
TZOFFSETTO:-0600
TZNAME:CST
DTSTART:20221106T070000
END:STANDARD
END:VTIMEZONE
BEGIN:VEVENT
DTSTART;TZID=America/Chicago:20211014T190000
DTEND;TZID=America/Chicago:20211014T203000
DTSTAMP:20260419T222416
CREATED:20210929T120209Z
LAST-MODIFIED:20211005T021552Z
UID:1617-1634238000-1634243400@artistreliefproject.org
SUMMARY:Community Show and Tell
DESCRIPTION:Share about your arts-related projects and goals\, and learn what other ARP members are working on! Talk about your art\, share about your current projects\, and (if desired) pose questions to receive feedback from a supportive community of artists and creatives.\n \nRegister for the Community Show and Tell for October 2021.
URL:https://artistreliefproject.org/event/community-show-and-tell-5/
LOCATION:Online
END:VEVENT
BEGIN:VEVENT
DTSTART;TZID=America/Chicago:20211013T183000
DTEND;TZID=America/Chicago:20211013T200000
DTSTAMP:20260419T222416
CREATED:20210929T114859Z
LAST-MODIFIED:20210929T114859Z
UID:1613-1634149800-1634155200@artistreliefproject.org
SUMMARY:Financial Wellness Webinar: Your Savings
DESCRIPTION:This webinar is an introductory overview of savings options and best practices related to saving money for your expenses\, goals\, and emergencies. \nRegister for Your Savings webinar.
URL:https://artistreliefproject.org/event/financial-wellness-webinar-your-savings/
LOCATION:Online
END:VEVENT
BEGIN:VEVENT
DTSTART;TZID=America/Chicago:20210930T190000
DTEND;TZID=America/Chicago:20210930T203000
DTSTAMP:20260419T222416
CREATED:20210906T205238Z
LAST-MODIFIED:20210906T205238Z
UID:1600-1633028400-1633033800@artistreliefproject.org
SUMMARY:Preparing for Grant Deadlines
DESCRIPTION:Finding the right grants and preparing a strong grant proposal takes time. This workshop will help you plan ahead and figure out how to best pace yourself to meet upcoming grant deadlines.  \nDesigned specifically with ARP members in mind\, this webinar will be useful for artists\, performers\, and creatives in any artistic discipline. \nRegister for Preparing for Grant Deadlines Online Workshop.
URL:https://artistreliefproject.org/event/preparing-for-grant-deadlines/
LOCATION:Online
END:VEVENT
BEGIN:VEVENT
DTSTART;TZID=America/Chicago:20210923T190000
DTEND;TZID=America/Chicago:20210923T203000
DTSTAMP:20260419T222416
CREATED:20210906T165020Z
LAST-MODIFIED:20210906T165020Z
UID:1596-1632423600-1632429000@artistreliefproject.org
SUMMARY:Funding Beyond Grants
DESCRIPTION:In this workshop\, we’ll look at examples of artists creatively securing funds for their projects and explore how you might look beyond grants to fund your own projects. \nRegister for Funding Beyond Grants Online Workshop for visual and performing artists.
URL:https://artistreliefproject.org/event/funding-beyond-grants/
LOCATION:Online
END:VEVENT
BEGIN:VEVENT
DTSTART;TZID=America/Chicago:20210916T190000
DTEND;TZID=America/Chicago:20210916T203000
DTSTAMP:20260419T222416
CREATED:20210902T014437Z
LAST-MODIFIED:20210902T014437Z
UID:1587-1631818800-1631824200@artistreliefproject.org
SUMMARY:Community Show and Tell
DESCRIPTION:Share about your arts-related project and goals\, and learn what other ARP members are working on. Talk about your art\, share about your current projects\, and (if desired) pose questions to receive feedback from a supportive community of artists and creatives. \nRegister for September 2021 Community Show and Tell
URL:https://artistreliefproject.org/event/community-show-and-tell-4/
LOCATION:Online
END:VEVENT
BEGIN:VEVENT
DTSTART;TZID=America/Chicago:20210908T183000
DTEND;TZID=America/Chicago:20210908T200000
DTSTAMP:20260419T222416
CREATED:20210902T014200Z
LAST-MODIFIED:20210902T014200Z
UID:1585-1631125800-1631131200@artistreliefproject.org
SUMMARY:Financial Wellness Webinar: Disasters Financial Prep and Recovery
DESCRIPTION:An introductory overview of best practices on how to financially prepare for disasters and begin planning a course of action to recover financially from disasters. \nRegister for Disasters: Financial Prep and Recovery
URL:https://artistreliefproject.org/event/financial-wellness-webinar-disasters-financial-prep-and-recovery/
LOCATION:Online
END:VEVENT
BEGIN:VEVENT
DTSTART;TZID=America/Chicago:20210825T183000
DTEND;TZID=America/Chicago:20210825T200000
DTSTAMP:20260419T222416
CREATED:20210707T105929Z
LAST-MODIFIED:20210803T130112Z
UID:1540-1629916200-1629921600@artistreliefproject.org
SUMMARY:Writing an Effective Artist's Statement
DESCRIPTION:Learn the norms for content\, length\, and organization of an effective artist’s statement and get tips on how to best convey your creative intentions to your audience. \nRegister for Writing an Effective Artist’s Statement
URL:https://artistreliefproject.org/event/writing-an-effective-artists-statement/
LOCATION:Online
END:VEVENT
BEGIN:VEVENT
DTSTART;TZID=America/Chicago:20210817T190000
DTEND;TZID=America/Chicago:20210817T203000
DTSTAMP:20260419T222416
CREATED:20210727T133105Z
LAST-MODIFIED:20210727T133142Z
UID:1567-1629226800-1629232200@artistreliefproject.org
SUMMARY:Using Art to Inspire Action
DESCRIPTION:In this online workshop\, you’ll learn how your art can go beyond raising awareness on a social\, cultural\, or political issue. You’ll gain ideas and strategies on how you can use art to inspire new attitudes and behaviors\, initiate action\, and create a real impact in your community. \nRegister for Using Art to Inspire Action
URL:https://artistreliefproject.org/event/using-art-to-inspire-action/
LOCATION:Online
END:VEVENT
BEGIN:VEVENT
DTSTART;TZID=America/Chicago:20210812T190000
DTEND;TZID=America/Chicago:20210812T203000
DTSTAMP:20260419T222416
CREATED:20210718T180203Z
LAST-MODIFIED:20210718T180203Z
UID:1554-1628794800-1628800200@artistreliefproject.org
SUMMARY:Community Show and Tell
DESCRIPTION:Share about your arts-related project and goals\, and learn what other ARP members are working on. Talk about your art\, share about your current projects\, and (if desired) pose questions to receive feedback from a supportive community of artists and creatives. \nRegister for Community Show and Tell
URL:https://artistreliefproject.org/event/community-show-and-tell-3/
LOCATION:Online
END:VEVENT
BEGIN:VEVENT
DTSTART;TZID=America/Chicago:20210811T183000
DTEND;TZID=America/Chicago:20210811T200000
DTSTAMP:20260419T222416
CREATED:20210718T180652Z
LAST-MODIFIED:20210718T180652Z
UID:1556-1628706600-1628712000@artistreliefproject.org
SUMMARY:Financial Wellness Webinar: Credit Reports and Scores
DESCRIPTION:This webinar is an introductory overview of how to understand\, access\, and improve your credit reports and scores. You will learn how to access your credit reports\, how to review and dispute errors in your credit reports\, how to repair\, improve\, and maintain credit\, and where to get help with your credit reports and scores. \nRegister for Credit Reports and Scores
URL:https://artistreliefproject.org/event/financial-wellness-webinar-credit-reports-and-scores/
LOCATION:Online
END:VEVENT
BEGIN:VEVENT
DTSTART;TZID=America/Chicago:20210805T190000
DTEND;TZID=America/Chicago:20210805T210000
DTSTAMP:20260419T222416
CREATED:20210724T185208Z
LAST-MODIFIED:20210724T185208Z
UID:1561-1628190000-1628197200@artistreliefproject.org
SUMMARY:Case Studies in Creative Fundraising
DESCRIPTION:In this workshop and discussion\, you’ll review several case studies of unique fundraisers in both the visual and performing arts. You’ll learn the necessities of creating a fundraiser\, discuss tactics for engaging your supporters in creative ways\, and be given the opportunity to discuss\, ask questions\, and brainstorm ideas for your own fundraising goals. \nRegister for Case Studies in Creative Fundraising
URL:https://artistreliefproject.org/event/case-studies-in-creative-fundraising/
LOCATION:Online
END:VEVENT
BEGIN:VEVENT
DTSTART;TZID=America/Chicago:20210722T190000
DTEND;TZID=America/Chicago:20210722T203000
DTSTAMP:20260419T222416
CREATED:20210707T102908Z
LAST-MODIFIED:20210707T102908Z
UID:1535-1626980400-1626985800@artistreliefproject.org
SUMMARY:Maintaining a Positive Outlook: Tactics for Dealing with Negative Reviews\, Rejection\, and Imposter Syndrome
DESCRIPTION:Gain tactics and learn about resources to help you maintain a positive outlook\, including methods for receiving\, responding to\, and incorporating negative feedback\, cultivating positive self-talk\, and being more proactive. Participants will have the opportunity to share lessons they have learned\, talk about current struggles\, and ask for suggestions. \nRegister for Maintaining a Positive Outlook
URL:https://artistreliefproject.org/event/maintaining-a-positive-outlook-tactics-for-dealing-with-negative-reviews-rejection-and-imposter-syndrome/
LOCATION:Online
END:VEVENT
BEGIN:VEVENT
DTSTART;TZID=America/Chicago:20210715T190000
DTEND;TZID=America/Chicago:20210715T203000
DTSTAMP:20260419T222416
CREATED:20210628T024508Z
LAST-MODIFIED:20210628T024508Z
UID:1528-1626375600-1626381000@artistreliefproject.org
SUMMARY:Community Show and Tell
DESCRIPTION:Share about your current arts-related projects and receive feedback from an encouraging\, supportive community of your fellow artists and creatives. The motivation behind this meeting is to continue fostering a supportive community of artists who are facing similar professional challenges during this time. \nRegister for Community Show and Tell July 2021
URL:https://artistreliefproject.org/event/community-show-and-tell-2/
LOCATION:Online
END:VEVENT
BEGIN:VEVENT
DTSTART;TZID=America/Chicago:20210714T183000
DTEND;TZID=America/Chicago:20210714T200000
DTSTAMP:20260419T222416
CREATED:20210618T042448Z
LAST-MODIFIED:20210618T042448Z
UID:1507-1626287400-1626292800@artistreliefproject.org
SUMMARY:Financial Wellness Webinar: Protecting Your Identity and Other Assets
DESCRIPTION:This webinar provides an overview of steps you can take to protect your identity and reduce risks to your assets. You will learn what to do in the case of identity theft and how insurance can help protect you from financial loss. \nRegister for Protecting Your Identity and Other Assets
URL:https://artistreliefproject.org/event/financial-wellness-webinar-protecting-your-identity-and-other-assets/
LOCATION:Online
END:VEVENT
BEGIN:VEVENT
DTSTART;TZID=America/Chicago:20210624T190000
DTEND;TZID=America/Chicago:20210624T203000
DTSTAMP:20260419T222416
CREATED:20210530T204357Z
LAST-MODIFIED:20210530T204357Z
UID:1493-1624561200-1624566600@artistreliefproject.org
SUMMARY:Creative Tactics for Fostering Community
DESCRIPTION:Gain creative tactics for fostering community through arts-based initiatives\, whether it be with a virtual community or within your own neighborhood. \nIn this webinar you will learn:\n– How to cultivate relationships (with businesses\, organizations\, individuals\, etc.)\n– How to inspire dialogues and actions through creative activities and events \nRegister for Creative Tactics for Fostering Community
URL:https://artistreliefproject.org/event/creative-tactics-for-fostering-community/
LOCATION:Online
END:VEVENT
BEGIN:VEVENT
DTSTART;TZID=America/Chicago:20210610T190000
DTEND;TZID=America/Chicago:20210610T203000
DTSTAMP:20260419T222416
CREATED:20210530T173024Z
LAST-MODIFIED:20210530T173024Z
UID:1486-1623351600-1623357000@artistreliefproject.org
SUMMARY:Community Show and Tell
DESCRIPTION:Share about your current arts-related projects and receive feedback from an encouraging\, supportive community of your fellow artists and creatives. The motivation behind this meeting is to continue fostering a supportive community of artists who are facing similar professional challenges during this time. \nRegister for Community Show and Tell
URL:https://artistreliefproject.org/event/community-show-and-tell/
LOCATION:Online
END:VEVENT
BEGIN:VEVENT
DTSTART;TZID=America/Chicago:20210609T183000
DTEND;TZID=America/Chicago:20210609T200000
DTSTAMP:20260419T222416
CREATED:20210524T043640Z
LAST-MODIFIED:20210524T043640Z
UID:1479-1623263400-1623268800@artistreliefproject.org
SUMMARY:Financial Wellness Webinar: Building Your Financial Future
DESCRIPTION:A basic introduction to the importance of building assets. The discussion will help you generate ideas to afford assets and create a plan toward a more solid financial future. \nRegister for Building Your Financial Future webinar.
URL:https://artistreliefproject.org/event/financial-wellness-webinar-building-your-financial-future/
LOCATION:Online
END:VEVENT
BEGIN:VEVENT
DTSTART;VALUE=DATE:20210531
DTEND;VALUE=DATE:20210605
DTSTAMP:20260419T222416
CREATED:20210530T173309Z
LAST-MODIFIED:20210530T173527Z
UID:1488-1622419200-1622851199@artistreliefproject.org
SUMMARY:No Classes
DESCRIPTION:No classes this week. Happy Memorial Day!
URL:https://artistreliefproject.org/event/no-classes-2/
LOCATION:Online
END:VEVENT
BEGIN:VEVENT
DTSTART;TZID=America/Chicago:20210527T190000
DTEND;TZID=America/Chicago:20210527T203000
DTSTAMP:20260419T222416
CREATED:20210507T040830Z
LAST-MODIFIED:20210507T040830Z
UID:1452-1622142000-1622147400@artistreliefproject.org
SUMMARY:IV. Finding and Contacting Potential Interviewees
DESCRIPTION:Part 4 of the How to Produce a Podcast series \nAn informative overview of how to book guests\, schedule interviews\, and plan announcements and release dates for your podcast. \nRegister for Part 4: Finding and Contacting Potential Interviewees
URL:https://artistreliefproject.org/event/iv-finding-and-contacting-potential-interviewees/
LOCATION:Online
END:VEVENT
BEGIN:VEVENT
DTSTART;TZID=America/Chicago:20210527T183000
DTEND;TZID=America/Chicago:20210527T200000
DTSTAMP:20260419T222416
CREATED:20210507T120847Z
LAST-MODIFIED:20210507T120847Z
UID:1472-1622140200-1622145600@artistreliefproject.org
SUMMARY:Smartphone Social Media Design: Creating Engaging TikTok Videos (Part 2)
DESCRIPTION:Learn how to create engaging\, eye-catching videos for TikTok using the Prequel mobile app. \nRegister for Creating Engaging TikTok Videos (Part 2)
URL:https://artistreliefproject.org/event/smartphone-social-media-design-creating-engaging-tiktok-videos-part-2/
LOCATION:Online
END:VEVENT
BEGIN:VEVENT
DTSTART;TZID=America/Chicago:20210525T190000
DTEND;TZID=America/Chicago:20210525T203000
DTSTAMP:20260419T222416
CREATED:20210507T041210Z
LAST-MODIFIED:20210507T041210Z
UID:1454-1621969200-1621974600@artistreliefproject.org
SUMMARY:III. Writing Your Logline and Practicing Your Introduction
DESCRIPTION:Part 3 of the How to Produce a Podcast series \nA hands-on workshop to help you draft your logline and transform it into an introduction \nRegister for Part 3: Writing Your Logline and Practicing Your Introduction
URL:https://artistreliefproject.org/event/iii-writing-your-logline-and-practicing-your-introduction/
LOCATION:Online
END:VEVENT
BEGIN:VEVENT
DTSTART;TZID=America/Chicago:20210525T183000
DTEND;TZID=America/Chicago:20210525T200000
DTSTAMP:20260419T222416
CREATED:20210507T120546Z
LAST-MODIFIED:20210507T120546Z
UID:1470-1621967400-1621972800@artistreliefproject.org
SUMMARY:Smartphone Social Media Design: Creating Engaging TikTok Videos (Part 1)
DESCRIPTION:Learn how to create engaging TikTok videos on your Smartphone using the CANVA and VN Video Editor apps. \nRegister for Creating Engaging TikTok Videos (Part 1)
URL:https://artistreliefproject.org/event/smartphone-social-media-design-creating-engaging-tiktok-videos-part-1/
LOCATION:Online
END:VEVENT
BEGIN:VEVENT
DTSTART;TZID=America/Chicago:20210520T190000
DTEND;TZID=America/Chicago:20210520T203000
DTSTAMP:20260419T222416
CREATED:20210507T040410Z
LAST-MODIFIED:20210507T040410Z
UID:1450-1621537200-1621542600@artistreliefproject.org
SUMMARY:II. Writing Your Research and Interview Questions
DESCRIPTION:Part 2 of the How to Produce a Podcast Series \nA hands-on workshop to help you design strong interview questions and determine how your podcast will stand out against other series. \nRegister for Part 2: Writing Your Research and Interview Questions
URL:https://artistreliefproject.org/event/ii-writing-your-research-and-interview-questions/
LOCATION:Online
END:VEVENT
BEGIN:VEVENT
DTSTART;TZID=America/Chicago:20210518T190000
DTEND;TZID=America/Chicago:20210518T203000
DTSTAMP:20260419T222416
CREATED:20210507T035910Z
LAST-MODIFIED:20210507T035910Z
UID:1448-1621364400-1621369800@artistreliefproject.org
SUMMARY:I. What is a Podcast?
DESCRIPTION:Part 1 of the How to Produce a Podcast Series \nA general overview of the different genres and formats of podcasts and the different platforms for hosting podcasts. \nRegister for Part 1: What is a Podcast?
URL:https://artistreliefproject.org/event/i-what-is-a-podcast/
LOCATION:Online
END:VEVENT
BEGIN:VEVENT
DTSTART;TZID=America/Chicago:20210518T183000
DTEND;TZID=America/Chicago:20210518T200000
DTSTAMP:20260419T222416
CREATED:20210507T043154Z
LAST-MODIFIED:20210507T043154Z
UID:1458-1621362600-1621368000@artistreliefproject.org
SUMMARY:Smartphone Social Media Design: Cover Art and Video Intros for Your Youtube Channel
DESCRIPTION:Learn how to use the CANVA mobile app to create images and videos that can be used as self-branding materials for your Youtube channel. \nRegister for Cover Art and Video Intros for Your Youtube Channel
URL:https://artistreliefproject.org/event/smartphone-social-media-design-cover-art-and-video-intros-for-your-youtube-channel/
LOCATION:Online
END:VEVENT
BEGIN:VEVENT
DTSTART;TZID=America/Chicago:20210513T190000
DTEND;TZID=America/Chicago:20210513T203000
DTSTAMP:20260419T222416
CREATED:20210503T114913Z
LAST-MODIFIED:20210503T114926Z
UID:1441-1620932400-1620937800@artistreliefproject.org
SUMMARY:(FINAL) Evening Discussion on Virtual Performance
DESCRIPTION:This month is the FINAL Evening Discussion on Virtual Performance and your last chance to contribute to the conversation! \nIn this peer discussion and exchange\, we’ll reflect on examples of theater\, spoken word\, and music performance succeeding and surviving virtually. We’ll also brainstorm solutions to overcome perceived limitations of transitioning live performing arts to the internet. \nAll are welcome to attend. It is not necessary or required that you have attended previous sessions. \nRegister for Evening Discussion on Virtual Performance
URL:https://artistreliefproject.org/event/final-evening-discussion-on-virtual-performance/
LOCATION:Online
END:VEVENT
BEGIN:VEVENT
DTSTART;TZID=America/Chicago:20210513T183000
DTEND;TZID=America/Chicago:20210513T200000
DTSTAMP:20260419T222416
CREATED:20210503T004859Z
LAST-MODIFIED:20210503T004859Z
UID:1433-1620930600-1620936000@artistreliefproject.org
SUMMARY:Smartphone Social Media Design: Creating Compelling IG Posts
DESCRIPTION:Part of our Smartphone Social Media Design Workshop Series\nLearn how to use select (free) mobile apps to create compelling images and videos that can be posted to your Instagram Feed. \nRegister for Creating Compelling IG Posts
URL:https://artistreliefproject.org/event/smartphone-social-media-design-creating-compelling-ig-posts/
LOCATION:Online
END:VEVENT
BEGIN:VEVENT
DTSTART;TZID=America/Chicago:20210512T183000
DTEND;TZID=America/Chicago:20210512T200000
DTSTAMP:20260419T222416
CREATED:20210502T231538Z
LAST-MODIFIED:20210502T231538Z
UID:1427-1620844200-1620849600@artistreliefproject.org
SUMMARY:Financial Wellness Webinar: Your Spending & Savings Plan
DESCRIPTION:A basic introduction to developing a personal spending and savings plan based on an assessment of your income and expenses. \nRegister for Your Spending & Savings Plan
URL:https://artistreliefproject.org/event/financial-wellness-webinar-your-spending-savings-plan/
LOCATION:Online
END:VEVENT
BEGIN:VEVENT
DTSTART;TZID=America/Chicago:20210511T190000
DTEND;TZID=America/Chicago:20210511T203000
DTSTAMP:20260419T222416
CREATED:20210502T222654Z
LAST-MODIFIED:20210502T222654Z
UID:1423-1620759600-1620765000@artistreliefproject.org
SUMMARY:Self-Publishing Your eBook on Amazon
DESCRIPTION:Be guided through the process of self-publishing your ebook on Amazon Kindle by an author who has self-published on this platform. \nRegister for Self-Publishing on Amazon webinar
URL:https://artistreliefproject.org/event/self-publishing-your-ebook-on-amazon/
LOCATION:Online
END:VEVENT
BEGIN:VEVENT
DTSTART;VALUE=DATE:20210503
DTEND;VALUE=DATE:20210508
DTSTAMP:20260419T222416
CREATED:20210503T111936Z
LAST-MODIFIED:20210503T111936Z
UID:1435-1620000000-1620431999@artistreliefproject.org
SUMMARY:No Classes
DESCRIPTION:No Classes May 3 to May 7
URL:https://artistreliefproject.org/event/no-classes/
END:VEVENT
END:VCALENDAR