BEGIN:VCALENDAR
VERSION:2.0
PRODID:-//Artist Relief Project - ECPv6.15.14//NONSGML v1.0//EN
CALSCALE:GREGORIAN
METHOD:PUBLISH
X-WR-CALNAME:Artist Relief Project
X-ORIGINAL-URL:https://artistreliefproject.org
X-WR-CALDESC:Events for Artist Relief Project
REFRESH-INTERVAL;VALUE=DURATION:PT1H
X-Robots-Tag:noindex
X-PUBLISHED-TTL:PT1H
BEGIN:VTIMEZONE
TZID:America/Chicago
BEGIN:DAYLIGHT
TZOFFSETFROM:-0600
TZOFFSETTO:-0500
TZNAME:CDT
DTSTART:20200308T080000
END:DAYLIGHT
BEGIN:STANDARD
TZOFFSETFROM:-0500
TZOFFSETTO:-0600
TZNAME:CST
DTSTART:20201101T070000
END:STANDARD
BEGIN:DAYLIGHT
TZOFFSETFROM:-0600
TZOFFSETTO:-0500
TZNAME:CDT
DTSTART:20210314T080000
END:DAYLIGHT
BEGIN:STANDARD
TZOFFSETFROM:-0500
TZOFFSETTO:-0600
TZNAME:CST
DTSTART:20211107T070000
END:STANDARD
BEGIN:DAYLIGHT
TZOFFSETFROM:-0600
TZOFFSETTO:-0500
TZNAME:CDT
DTSTART:20220313T080000
END:DAYLIGHT
BEGIN:STANDARD
TZOFFSETFROM:-0500
TZOFFSETTO:-0600
TZNAME:CST
DTSTART:20221106T070000
END:STANDARD
BEGIN:DAYLIGHT
TZOFFSETFROM:-0600
TZOFFSETTO:-0500
TZNAME:CDT
DTSTART:20230312T080000
END:DAYLIGHT
BEGIN:STANDARD
TZOFFSETFROM:-0500
TZOFFSETTO:-0600
TZNAME:CST
DTSTART:20231105T070000
END:STANDARD
END:VTIMEZONE
BEGIN:VTIMEZONE
TZID:UTC
BEGIN:STANDARD
TZOFFSETFROM:+0000
TZOFFSETTO:+0000
TZNAME:UTC
DTSTART:20210101T000000
END:STANDARD
END:VTIMEZONE
BEGIN:VEVENT
DTSTART;TZID=America/Chicago:20220512T190000
DTEND;TZID=America/Chicago:20220512T203000
DTSTAMP:20260419T182157
CREATED:20220306T002342Z
LAST-MODIFIED:20220425T130652Z
UID:1824-1652382000-1652387400@artistreliefproject.org
SUMMARY:Community Show and Tell May 2022
DESCRIPTION:Share about your arts-related projects and goals\, and learn what other ARP members are working on in our monthly live peer share and discussion! \nReserve your seat in the Community Show and Tell. \n(Note: This opportunity is open to ARP Community Members. ARP Membership is free and open to practicing artists in any discipline. If you’re not already an ARP member\, use this link to request membership.)
URL:https://artistreliefproject.org/event/community-show-and-tell-may-2022/
LOCATION:Online
END:VEVENT
BEGIN:VEVENT
DTSTART;TZID=America/Chicago:20220511T183000
DTEND;TZID=America/Chicago:20220511T200000
DTSTAMP:20260419T182157
CREATED:20220306T003257Z
LAST-MODIFIED:20220425T125950Z
UID:1826-1652293800-1652299200@artistreliefproject.org
SUMMARY:Intro to Personal Finance: Credit Reports and Scores
DESCRIPTION:An introductory-level overview of how to understand\, access\, and improve your credit reports and scores. \nReserve your space for Your Credit Reports and Scores. \nThis opportunity is free and open to practicing artists in any discipline. Don’t miss out! \nSign up to receive updates.
URL:https://artistreliefproject.org/event/intro-to-personal-finance-credit-reports-and-scores/
LOCATION:Online
END:VEVENT
BEGIN:VEVENT
DTSTART;TZID=UTC:20220427T190000
DTEND;TZID=UTC:20220427T203000
DTSTAMP:20260419T182157
CREATED:20220402T225332Z
LAST-MODIFIED:20220402T225538Z
UID:1890-1651086000-1651091400@artistreliefproject.org
SUMMARY:Creating a Social Media Campaign
DESCRIPTION:An online workshop to help you begin drafting a month-long social media campaign. You’ll learn how to build a social media kit and what makes an effective social media post\, and you’ll receive templates and resources to guide the development of your campaign. \nRegister for Creating a Social Media Campaign Online Workshop. \nNote: This free webinar opportunity is open to ARP members and/ or practicing artists who have requested support from Artist Relief Project. If you’re not already a member\, you may request membership at this link.
URL:https://artistreliefproject.org/event/creating-a-social-media-campaign/
LOCATION:Online
END:VEVENT
BEGIN:VEVENT
DTSTART;TZID=America/Chicago:20220421T190000
DTEND;TZID=America/Chicago:20220421T210000
DTSTAMP:20260419T182157
CREATED:20220306T002040Z
LAST-MODIFIED:20220323T112646Z
UID:1822-1650567600-1650574800@artistreliefproject.org
SUMMARY:Community Show and Tell April 2022
DESCRIPTION:Share about your arts-related projects and goals\, and learn what other ARP members are working on in our monthly live peer share and discussion! \nRequest a seat in the Community Show and Tell. \n(Note: This opportunity is open to ARP Community Members. ARP Membership is free and open to practicing artists in any discipline. If you’re not already an ARP member\, use this link to request membership.)
URL:https://artistreliefproject.org/event/community-show-and-tell-april-2022/
LOCATION:Online
END:VEVENT
BEGIN:VEVENT
DTSTART;VALUE=DATE:20220411
DTEND;VALUE=DATE:20220418
DTSTAMP:20260419T182157
CREATED:20220323T105811Z
LAST-MODIFIED:20220323T105811Z
UID:1870-1649635200-1650239999@artistreliefproject.org
SUMMARY:No Class
DESCRIPTION:See you again soon!
URL:https://artistreliefproject.org/event/no-class/
LOCATION:Online
END:VEVENT
BEGIN:VEVENT
DTSTART;TZID=UTC:20220406T190000
DTEND;TZID=UTC:20220406T203000
DTSTAMP:20260419T182157
CREATED:20220315T011729Z
LAST-MODIFIED:20220323T110409Z
UID:1833-1649271600-1649277000@artistreliefproject.org
SUMMARY:Drafting Professional Letters
DESCRIPTION:Learn various common letter types and purposes used in arts professions\, focusing on cover letters\, but also addressing overlaps with letters of interest/ intent\, letters of introduction\, and letters of inquiry. \nRegister for the Drafting Professional Letters webinar. \n(Note: This opportunity is open to ARP Community Members. ARP Membership is free and open to practicing artists in any discipline. If you’re not already an ARP member\, use this link to request membership.) \n 
URL:https://artistreliefproject.org/event/drafting-professional-letters/
LOCATION:Online
END:VEVENT
BEGIN:VEVENT
DTSTART;TZID=America/Chicago:20220330T190000
DTEND;TZID=America/Chicago:20220330T203000
DTSTAMP:20260419T182157
CREATED:20220301T150306Z
LAST-MODIFIED:20220301T150306Z
UID:1809-1648666800-1648672200@artistreliefproject.org
SUMMARY:Making a Video for Your Patreon or Crowdfunding Page
DESCRIPTION:Learn what makes an effective script and gain some simple ways to shoot and edit the video for your Patreon and/ or crowdfunding page. \nRegister for Making a Video for Your Patreon or Crowdfunding Page
URL:https://artistreliefproject.org/event/making-a-video-for-your-patreon-or-crowdfunding-page/
LOCATION:Online
END:VEVENT
BEGIN:VEVENT
DTSTART;TZID=America/Chicago:20220323T190000
DTEND;TZID=America/Chicago:20220323T203000
DTSTAMP:20260419T182157
CREATED:20220301T150046Z
LAST-MODIFIED:20220301T150046Z
UID:1807-1648062000-1648067400@artistreliefproject.org
SUMMARY:How to Start a Crowdfunding Page
DESCRIPTION:Follow step-by-step instructions for how to create an engaging crowdfunding page. \nRegister for How to Start a Crowdfunding Page
URL:https://artistreliefproject.org/event/how-to-start-a-crowdfunding-page/
LOCATION:Online
END:VEVENT
BEGIN:VEVENT
DTSTART;TZID=America/Chicago:20220316T190000
DTEND;TZID=America/Chicago:20220316T203000
DTSTAMP:20260419T182157
CREATED:20220301T145802Z
LAST-MODIFIED:20220301T145802Z
UID:1805-1647457200-1647462600@artistreliefproject.org
SUMMARY:How to Start a Patreon Page
DESCRIPTION:Learn step-by-step instructions for creating an engaging and professional-looking Patreon page. \nRegister for How to Start a Patreon Page
URL:https://artistreliefproject.org/event/how-to-start-a-patreon-page/
LOCATION:Online
END:VEVENT
BEGIN:VEVENT
DTSTART;TZID=America/Chicago:20220310T190000
DTEND;TZID=America/Chicago:20220310T203000
DTSTAMP:20260419T182157
CREATED:20220301T145553Z
LAST-MODIFIED:20220301T145553Z
UID:1803-1646938800-1646944200@artistreliefproject.org
SUMMARY:Community Show and Tell March 2022
DESCRIPTION:Share about your arts-related projects and goals\, and learn what other ARP members are working on in our monthly live peer share and discussion! \nRegister for the Community Show and Tell
URL:https://artistreliefproject.org/event/community-show-and-tell-march-2022/
LOCATION:Online
END:VEVENT
BEGIN:VEVENT
DTSTART;TZID=America/Chicago:20220309T183000
DTEND;TZID=America/Chicago:20220309T200000
DTSTAMP:20260419T182157
CREATED:20220301T141901Z
LAST-MODIFIED:20220301T142023Z
UID:1800-1646850600-1646856000@artistreliefproject.org
SUMMARY:Intro to Personal Finance: Your Savings and Spending Plan
DESCRIPTION:An introductory-level presentation on a basic approach for developing a personal spending and savings plan based on an assessment of your income and expenses. \nRegister for Your Savings and Spending Plan
URL:https://artistreliefproject.org/event/intro-to-personal-finance-your-savings-and-spending-plan/
LOCATION:Online
END:VEVENT
BEGIN:VEVENT
DTSTART;TZID=America/Chicago:20220223T190000
DTEND;TZID=America/Chicago:20220223T203000
DTSTAMP:20260419T182157
CREATED:20220130T132742Z
LAST-MODIFIED:20220130T132742Z
UID:1767-1645642800-1645648200@artistreliefproject.org
SUMMARY:Crafting a Compelling Project Description
DESCRIPTION:Learn a step-by-step approach to constructing a compelling project description as part of a grant application. \nRegister for Crafting a Compelling Project Description
URL:https://artistreliefproject.org/event/crafting-a-compelling-project-description/
LOCATION:Online
END:VEVENT
BEGIN:VEVENT
DTSTART;TZID=America/Chicago:20220216T190000
DTEND;TZID=America/Chicago:20220216T200000
DTSTAMP:20260419T182157
CREATED:20220130T141726Z
LAST-MODIFIED:20220130T141755Z
UID:1771-1645038000-1645041600@artistreliefproject.org
SUMMARY:Community Conversations: A Conversation with the Executive Director
DESCRIPTION:Join us for a conversation with Roshan Manjunath\, Executive Director of the nonprofit behind Artist Relief Project\, and learn more about the team and mission behind the organization and the larger vision for the future of ARP. \nRegister for this Community Conversations event.
URL:https://artistreliefproject.org/event/community-conversations-a-conversation-with-the-executive-director/
LOCATION:Online
END:VEVENT
BEGIN:VEVENT
DTSTART;TZID=America/Chicago:20220209T183000
DTEND;TZID=America/Chicago:20220209T200000
DTSTAMP:20260419T182157
CREATED:20220110T001919Z
LAST-MODIFIED:20220110T001919Z
UID:1760-1644431400-1644436800@artistreliefproject.org
SUMMARY:Small Business Financial Tools: Developing a Business Plan
DESCRIPTION:This webinar will provide a broad overview of the eight parts of a formal business plan and what to consider when writing it. \nRegister for Developing a Business Plan.
URL:https://artistreliefproject.org/event/small-business-financial-tools-developing-a-business-plan-2/
LOCATION:Online
END:VEVENT
BEGIN:VEVENT
DTSTART;TZID=America/Chicago:20220203T190000
DTEND;TZID=America/Chicago:20220203T203000
DTSTAMP:20260419T182157
CREATED:20220109T225443Z
LAST-MODIFIED:20220114T003147Z
UID:1756-1643914800-1643920200@artistreliefproject.org
SUMMARY:Community Show and Tell
DESCRIPTION:Share about your arts-related projects and goals\, and learn what other ARP members are working on in our monthly live peer share and discussion! \nRegister for Community Show and Tell February 2022!
URL:https://artistreliefproject.org/event/community-show-and-tell-feb-22/
LOCATION:Online
END:VEVENT
BEGIN:VEVENT
DTSTART;TZID=America/Chicago:20220127T190000
DTEND;TZID=America/Chicago:20220127T203000
DTSTAMP:20260419T182157
CREATED:20211230T044310Z
LAST-MODIFIED:20211230T044310Z
UID:1743-1643310000-1643315400@artistreliefproject.org
SUMMARY:Your 2022 Arts Business Budget
DESCRIPTION:Start the year off strong by drafting a strong annual budget for your arts business. \nRegister for Your 2022 Arts Business Budget
URL:https://artistreliefproject.org/event/your-2022-arts-business-budget/
LOCATION:Online
END:VEVENT
BEGIN:VEVENT
DTSTART;TZID=America/Chicago:20220119T190000
DTEND;TZID=America/Chicago:20220119T203000
DTSTAMP:20260419T182157
CREATED:20211229T133104Z
LAST-MODIFIED:20211229T133104Z
UID:1739-1642618800-1642624200@artistreliefproject.org
SUMMARY:The Art of the CV
DESCRIPTION:Constructing a Professional CV/ Resume for Artists and Creatives \nThis webinar will teach you how to craft a professional CV with proper content\, formatting\, and organization for the purposes of applying to various positions\, grants\, exhibitions\, and roles as a visual or performing artist. \nRegister for The Art of the CV
URL:https://artistreliefproject.org/event/the-art-of-the-cv-2/
LOCATION:Online
END:VEVENT
BEGIN:VEVENT
DTSTART;TZID=America/Chicago:20220113T190000
DTEND;TZID=America/Chicago:20220113T203000
DTSTAMP:20260419T182157
CREATED:20211229T132738Z
LAST-MODIFIED:20211229T132738Z
UID:1737-1642100400-1642105800@artistreliefproject.org
SUMMARY:Community Show and Tell
DESCRIPTION:Share about your arts-related projects and goals\, and learn what other ARP members are working on! \nRegister for Community Show and Tell January 2022
URL:https://artistreliefproject.org/event/community-show-and-tell-7/
LOCATION:Online
END:VEVENT
BEGIN:VEVENT
DTSTART;TZID=America/Chicago:20220106T190000
DTEND;TZID=America/Chicago:20220106T203000
DTSTAMP:20260419T182157
CREATED:20211229T132512Z
LAST-MODIFIED:20211229T132512Z
UID:1735-1641495600-1641501000@artistreliefproject.org
SUMMARY:Your Professional Resolutions 2022
DESCRIPTION:In this peer learning and exchange\, we’ll share our professional goals for 2022 and how they intersect with our communities and current social/cultural “trends” we foresee in the new year. \nRegister for Your Professional Resolutions 2022
URL:https://artistreliefproject.org/event/your-professional-resolutions-2022/
LOCATION:Online
END:VEVENT
BEGIN:VEVENT
DTSTART;TZID=America/Chicago:20211227T080000
DTEND;TZID=America/Chicago:20211231T170000
DTSTAMP:20260419T182157
CREATED:20211124T123213Z
LAST-MODIFIED:20211124T123213Z
UID:1708-1640592000-1640970000@artistreliefproject.org
SUMMARY:No Classes
DESCRIPTION:No classes this week. Happy New Year!
URL:https://artistreliefproject.org/event/no-classes-5/
LOCATION:Online
END:VEVENT
BEGIN:VEVENT
DTSTART;TZID=America/Chicago:20211220T080000
DTEND;TZID=America/Chicago:20211224T170000
DTSTAMP:20260419T182157
CREATED:20211124T123120Z
LAST-MODIFIED:20211124T123120Z
UID:1706-1639987200-1640365200@artistreliefproject.org
SUMMARY:No Classes
DESCRIPTION:No classes this week.
URL:https://artistreliefproject.org/event/no-classes-4/
LOCATION:Online
END:VEVENT
BEGIN:VEVENT
DTSTART;TZID=America/Chicago:20211216T190000
DTEND;TZID=America/Chicago:20211216T203000
DTSTAMP:20260419T182157
CREATED:20211124T122828Z
LAST-MODIFIED:20211124T122828Z
UID:1704-1639681200-1639686600@artistreliefproject.org
SUMMARY:Creating a Pitch Deck
DESCRIPTION:This webinar will provide an overview of pitch decks and provide a general template for planning a pitch deck\, as well as resources for designing it. \nRegister for Creating a Pitch Deck workshop.
URL:https://artistreliefproject.org/event/creating-a-pitch-deck/
LOCATION:Online
END:VEVENT
BEGIN:VEVENT
DTSTART;TZID=America/Chicago:20211209T190000
DTEND;TZID=America/Chicago:20211209T203000
DTSTAMP:20260419T182157
CREATED:20211124T122634Z
LAST-MODIFIED:20211124T123717Z
UID:1702-1639076400-1639081800@artistreliefproject.org
SUMMARY:Community Show and Tell
DESCRIPTION:Share about your arts-related projects and goals\, and learn what other ARP members are working on! Artists in all disciplines are welcome to attend. (And sharing is not required if you would like to participate as an observer and supportive community member.) \nRegister for this month’s Community Show and Tell. \n 
URL:https://artistreliefproject.org/event/community-show-and-tell-december-2021/
LOCATION:Online
END:VEVENT
BEGIN:VEVENT
DTSTART;TZID=America/Chicago:20211208T183000
DTEND;TZID=America/Chicago:20211208T200000
DTSTAMP:20260419T182157
CREATED:20211124T122420Z
LAST-MODIFIED:20211124T122420Z
UID:1700-1638988200-1638993600@artistreliefproject.org
SUMMARY:Financial Wellness Webinar: Managing Debt
DESCRIPTION:This webinar is an introductory presentation explaining what debt is and how to manage it. You will discuss the difference between debt and credit\, different types of debt\, and strategies to reduce debt. \nRegister for Managing Debt webinar.
URL:https://artistreliefproject.org/event/financial-wellness-webinar-managing-debt-3/
LOCATION:Online
END:VEVENT
BEGIN:VEVENT
DTSTART;TZID=America/Chicago:20211207T190000
DTEND;TZID=America/Chicago:20211207T203000
DTSTAMP:20260419T182157
CREATED:20211130T030534Z
LAST-MODIFIED:20211130T030534Z
UID:1717-1638903600-1638909000@artistreliefproject.org
SUMMARY:Creating Written Content for Your Artist Website
DESCRIPTION:Whether you’re creating your first website or you’re revising a longstanding one\, this workshop will guide you in the creation or revision of your written website content. \nRegister for Creating Written Content for Your Artist Website workshop.
URL:https://artistreliefproject.org/event/creating-written-content-for-your-artist-website/
LOCATION:Online
END:VEVENT
BEGIN:VEVENT
DTSTART;TZID=America/Chicago:20211202T190000
DTEND;TZID=America/Chicago:20211202T203000
DTSTAMP:20260419T182157
CREATED:20211124T122123Z
LAST-MODIFIED:20211124T122123Z
UID:1698-1638471600-1638477000@artistreliefproject.org
SUMMARY:Creating Your EPK (Electronic Press Kit)
DESCRIPTION:This webinar will provide an overview of EPKs and provide a general template for planning an EPK\, as well as resources for designing it. \nRegister for Creating Your EPK workshop.
URL:https://artistreliefproject.org/event/creating-your-epk-electronic-press-kit/
LOCATION:Online
END:VEVENT
BEGIN:VEVENT
DTSTART;TZID=America/Chicago:20211122T080000
DTEND;TZID=America/Chicago:20211126T170000
DTSTAMP:20260419T182157
CREATED:20211124T121849Z
LAST-MODIFIED:20211124T121849Z
UID:1696-1637568000-1637946000@artistreliefproject.org
SUMMARY:No Classes
DESCRIPTION:No classes this week. Happy Thanksgiving!
URL:https://artistreliefproject.org/event/no-classes-3/
LOCATION:Online
END:VEVENT
BEGIN:VEVENT
DTSTART;TZID=America/Chicago:20211118T190000
DTEND;TZID=America/Chicago:20211118T203000
DTSTAMP:20260419T182157
CREATED:20211031T033158Z
LAST-MODIFIED:20211031T033158Z
UID:1671-1637262000-1637267400@artistreliefproject.org
SUMMARY:Creating Video Content on Your Artist Website
DESCRIPTION:This workshop will focus on the importance of having video content on your website and reveal how good content can be made very simply. We’ll look at examples of video content and learn easy\, cost-effective means for producing videos for your website\, using your own space and devices. \nIn this workshop\, you will:\n– Discuss the value of video content and how to use it to create an impact on your website.\n– Look at examples of video content as a means for understanding the “less is more” rule.\n– Learn how to transform your space into a “set” for your promotional videos by adjusting backgrounds\, camera angles\, and lighting.\n– Learn about easy options to shoot (such as using your phone or Zoom) and edit (if necessary) your videos.\n\nRegister for Creating Video Content for Your Artist Website webinar.
URL:https://artistreliefproject.org/event/creating-video-content-on-your-artist-website/
LOCATION:Online
END:VEVENT
BEGIN:VEVENT
DTSTART;TZID=America/Chicago:20211111T190000
DTEND;TZID=America/Chicago:20211111T203000
DTSTAMP:20260419T182157
CREATED:20211031T031033Z
LAST-MODIFIED:20211031T031033Z
UID:1667-1636657200-1636662600@artistreliefproject.org
SUMMARY:Community Show and Tell
DESCRIPTION:Share about your arts-related projects and goals\, and learn what other ARP members are working on! Talk about your art\, share about your current projects\, and (if desired) pose questions to receive feedback from a supportive community of artists and creatives. \nRegister for the Community Show and Tell for November 2021.
URL:https://artistreliefproject.org/event/community-show-and-tell-6/
LOCATION:Online
END:VEVENT
BEGIN:VEVENT
DTSTART;TZID=America/Chicago:20211110T183000
DTEND;TZID=America/Chicago:20211110T200000
DTSTAMP:20260419T182157
CREATED:20211031T025308Z
LAST-MODIFIED:20211031T025308Z
UID:1663-1636569000-1636574400@artistreliefproject.org
SUMMARY:Financial Wellness Webinar: Your Money Values & Influences
DESCRIPTION:This webinar will guide you to think about your core values\, consider your financial goals\, and recognize external influences that impact your financial choices.\nYou will discuss:\n– How your values influence financial decisions.\n– How setting SMART goals can provide a realistic plan to help you achieve your financial goals.\n– How external influences can impact financial choices and strategies to help you stay focused on your financial goals. \nRegister for Your Money Values and Influences webinar.
URL:https://artistreliefproject.org/event/financial-wellness-webinar-your-money-values-influences/
LOCATION:Online
END:VEVENT
END:VCALENDAR