BEGIN:VCALENDAR
VERSION:2.0
PRODID:-//Artist Relief Project - ECPv6.15.14//NONSGML v1.0//EN
CALSCALE:GREGORIAN
METHOD:PUBLISH
X-ORIGINAL-URL:https://artistreliefproject.org
X-WR-CALDESC:Events for Artist Relief Project
REFRESH-INTERVAL;VALUE=DURATION:PT1H
X-Robots-Tag:noindex
X-PUBLISHED-TTL:PT1H
BEGIN:VTIMEZONE
TZID:UTC
BEGIN:STANDARD
TZOFFSETFROM:+0000
TZOFFSETTO:+0000
TZNAME:UTC
DTSTART:20210101T000000
END:STANDARD
END:VTIMEZONE
BEGIN:VTIMEZONE
TZID:America/Chicago
BEGIN:DAYLIGHT
TZOFFSETFROM:-0600
TZOFFSETTO:-0500
TZNAME:CDT
DTSTART:20210314T080000
END:DAYLIGHT
BEGIN:STANDARD
TZOFFSETFROM:-0500
TZOFFSETTO:-0600
TZNAME:CST
DTSTART:20211107T070000
END:STANDARD
BEGIN:DAYLIGHT
TZOFFSETFROM:-0600
TZOFFSETTO:-0500
TZNAME:CDT
DTSTART:20220313T080000
END:DAYLIGHT
BEGIN:STANDARD
TZOFFSETFROM:-0500
TZOFFSETTO:-0600
TZNAME:CST
DTSTART:20221106T070000
END:STANDARD
BEGIN:DAYLIGHT
TZOFFSETFROM:-0600
TZOFFSETTO:-0500
TZNAME:CDT
DTSTART:20230312T080000
END:DAYLIGHT
BEGIN:STANDARD
TZOFFSETFROM:-0500
TZOFFSETTO:-0600
TZNAME:CST
DTSTART:20231105T070000
END:STANDARD
END:VTIMEZONE
BEGIN:VEVENT
DTSTART;TZID=UTC:20220825T130000
DTEND;TZID=UTC:20220825T140000
DTSTAMP:20260419T153647
CREATED:20220804T211625Z
LAST-MODIFIED:20220804T212241Z
UID:2139-1661432400-1661436000@artistreliefproject.org
SUMMARY:Let's Talk Interdisciplinary Opportunities (8/25)
DESCRIPTION:Join fellow artists and creatives in a supportive small group session to brainstorm how you might expand your artistic processes into other disciplines and explore new possibilities for funding. \nReserve you seat in this small group session: Let’s Talk Interdisciplinary Opportunities (8/25)
URL:https://artistreliefproject.org/event/lets-talk-interdisciplinary-opportunities-8-25/
LOCATION:Online
END:VEVENT
BEGIN:VEVENT
DTSTART;TZID=UTC:20220824T190000
DTEND;TZID=UTC:20220824T203000
DTSTAMP:20260419T153647
CREATED:20220801T223642Z
LAST-MODIFIED:20220801T223642Z
UID:2100-1661367600-1661373000@artistreliefproject.org
SUMMARY:Working with People Across the Wheel of Power and Privilege
DESCRIPTION:Gain insights on how to approach working with communities you may not identify with and\, more specifically\, with communities in which uneven power and privilege dynamics exist between yourself and the community members. \nRegister for Working with People Across the Wheel of Power and Privilege.
URL:https://artistreliefproject.org/event/working-with-people-across-the-wheel-of-power-and-privilege/
LOCATION:Online
END:VEVENT
BEGIN:VEVENT
DTSTART;TZID=UTC:20220823T160000
DTEND;TZID=UTC:20220823T170000
DTSTAMP:20260419T153647
CREATED:20220804T211219Z
LAST-MODIFIED:20220804T211705Z
UID:2137-1661270400-1661274000@artistreliefproject.org
SUMMARY:Let's Talk Interdisciplinary Opportunities (8/23)
DESCRIPTION:Join fellow artists and creatives in a supportive small group session to brainstorm how you might expand your artistic processes into other disciplines and explore new possibilities for funding. \nReserve your spot in this session: Let’s Talk Interdisciplinary Opportunities (8/23)
URL:https://artistreliefproject.org/event/lets-talk-interdisciplinary-opportunities-8-23/
LOCATION:Online
END:VEVENT
BEGIN:VEVENT
DTSTART;TZID=UTC:20220817T190000
DTEND;TZID=UTC:20220817T203000
DTSTAMP:20260419T153647
CREATED:20220801T222353Z
LAST-MODIFIED:20220804T172318Z
UID:2098-1660762800-1660768200@artistreliefproject.org
SUMMARY:Why You Should Consider Multi/ Interdisciplinary Work
DESCRIPTION:Gain an overview of the benefits for pursuing interdisciplinary and multidisciplinary work and be inspired by case study examples of other artists in your ARP network who are testing out strategies and exploring inter/multidisciplinary work and new avenues for funding. \nRegister for Why You Should Consider Multi/Interdisciplinary Work.
URL:https://artistreliefproject.org/event/why-you-should-consider-multi-interdisciplinary-work/
LOCATION:Online
END:VEVENT
BEGIN:VEVENT
DTSTART;TZID=UTC:20220811T190000
DTEND;TZID=UTC:20220811T210000
DTSTAMP:20260419T153647
CREATED:20220801T221319Z
LAST-MODIFIED:20220801T221319Z
UID:2096-1660244400-1660251600@artistreliefproject.org
SUMMARY:Community Show and Tell August 2022
DESCRIPTION:Share about your arts-related projects and goals\, and learn what other ARP members are working on in our monthly live peer share and discussion! Artists in all disciplines are welcome and encourage to attend\, and sharing is not required if you would like to participate as an observer and supportive community member. \nRegister for ARP Community Show and Tell.
URL:https://artistreliefproject.org/event/community-show-and-tell-august-2022/
LOCATION:Online
END:VEVENT
BEGIN:VEVENT
DTSTART;TZID=UTC:20220810T183000
DTEND;TZID=UTC:20220810T200000
DTSTAMP:20260419T153647
CREATED:20220801T220958Z
LAST-MODIFIED:20220801T221110Z
UID:2092-1660156200-1660161600@artistreliefproject.org
SUMMARY:Intro to Personal Finance: Your Financial Future and Your Savings
DESCRIPTION:An introductory personal finance webinar on the importance of building assets and saving money for expenses\, goals\, and emergencies. Presented by Financial Representatives from Frost Bank. \nRegister for Your Financial Future and Your Savings.
URL:https://artistreliefproject.org/event/intro-to-personal-finance-your-financial-future-and-your-savings/
LOCATION:Online
END:VEVENT
BEGIN:VEVENT
DTSTART;TZID=UTC:20220728T110000
DTEND;TZID=UTC:20220728T120000
DTSTAMP:20260419T153647
CREATED:20220709T091801Z
LAST-MODIFIED:20220709T091801Z
UID:2048-1659006000-1659009600@artistreliefproject.org
SUMMARY:Let's Talk about Collabs
DESCRIPTION:Reserve a seat in one of our fun\, supportive small group discussion sessions\, where you’ll have the opportunity to talk about why and how you’re seeking collaborators\, hear from fellow artists and creatives\, and possibly make some new connections. \nReserve your seat in Let’s Talk about Collabs.
URL:https://artistreliefproject.org/event/lets-talk-about-collabs-2/
LOCATION:Online
END:VEVENT
BEGIN:VEVENT
DTSTART;TZID=UTC:20220727T190000
DTEND;TZID=UTC:20220727T203000
DTSTAMP:20260419T153647
CREATED:20220709T090722Z
LAST-MODIFIED:20220709T090722Z
UID:2040-1658948400-1658953800@artistreliefproject.org
SUMMARY:Creating Accessibility-Forward Social Media Content
DESCRIPTION:Learn why and how to use accessibility features on select social media platforms. \nRegister for Creating Accessibility-Forward Social Media Content
URL:https://artistreliefproject.org/event/creating-accessibility-forward-social-media-content/
LOCATION:Online
END:VEVENT
BEGIN:VEVENT
DTSTART;TZID=UTC:20220726T160000
DTEND;TZID=UTC:20220726T170000
DTSTAMP:20260419T153647
CREATED:20220709T091633Z
LAST-MODIFIED:20220709T091633Z
UID:2046-1658851200-1658854800@artistreliefproject.org
SUMMARY:Let's Talk about Collabs
DESCRIPTION:Reserve a seat in one of our fun\, supportive small group discussion sessions\, where you’ll have the opportunity to talk about why and how you’re seeking collaborators\, hear from fellow artists and creatives\, and possibly make some new connections. \nReserve your seat in Let’s Talk about Collabs.
URL:https://artistreliefproject.org/event/lets-talk-about-collabs/
LOCATION:Online
END:VEVENT
BEGIN:VEVENT
DTSTART;TZID=UTC:20220721T110000
DTEND;TZID=UTC:20220721T120000
DTSTAMP:20260419T153647
CREATED:20220709T091419Z
LAST-MODIFIED:20220709T091419Z
UID:2044-1658401200-1658404800@artistreliefproject.org
SUMMARY:Let's Talk Healing and the Arts
DESCRIPTION:Following our Healing through Art webinar\, reserve a seat in one of our community small group discussion sessions to share how you approach using art for the purposes of healing and hear from like-minded fellow artists and creators who may be working on projects from a similar perspective. \nReserve your seat for Let’s Talk Healing and the Arts.
URL:https://artistreliefproject.org/event/lets-talk-healing-and-the-arts-2/
LOCATION:Online
END:VEVENT
BEGIN:VEVENT
DTSTART;TZID=UTC:20220720T190000
DTEND;TZID=UTC:20220720T203000
DTSTAMP:20260419T153647
CREATED:20220709T090510Z
LAST-MODIFIED:20220709T090510Z
UID:2038-1658343600-1658349000@artistreliefproject.org
SUMMARY:Information Skills: Finding and Crediting Sources
DESCRIPTION:Learn how to find\, evaluate\, and use information to sustain\, enhance\, inspire\, and/ or better understand your artistic practice. \nRegister for Information Skills: Finding and Crediting Sources
URL:https://artistreliefproject.org/event/information-skills-finding-and-crediting-sources/
LOCATION:Online
END:VEVENT
BEGIN:VEVENT
DTSTART;TZID=UTC:20220719T160000
DTEND;TZID=UTC:20220719T170000
DTSTAMP:20260419T153647
CREATED:20220709T091212Z
LAST-MODIFIED:20220709T091212Z
UID:2042-1658246400-1658250000@artistreliefproject.org
SUMMARY:Let's Talk Healing and the Arts
DESCRIPTION:Following our Healing through Art webinar\, reserve a seat in one of our community small group discussion sessions to share how you approach using art for the purposes of healing and hear from like-minded fellow artists and creators who may be working on projects from a similar perspective. \nReserve your seat in Let’s Talk Healing and the Arts
URL:https://artistreliefproject.org/event/lets-talk-healing-and-the-arts/
LOCATION:Online
END:VEVENT
BEGIN:VEVENT
DTSTART;TZID=UTC:20220714T190000
DTEND;TZID=UTC:20220714T210000
DTSTAMP:20260419T153647
CREATED:20220709T090230Z
LAST-MODIFIED:20220709T090230Z
UID:2036-1657825200-1657832400@artistreliefproject.org
SUMMARY:Community Show and Tell July 2022
DESCRIPTION:Share about your arts-related projects and goals\, and learn what other ARP members are working on in our monthly live peer share and discussion! Artists in all disciplines are welcome and encourage to attend\, and sharing is not required if you would like to participate as an observer and supportive community member. \nRegister for the ARP Community Show and Tell.
URL:https://artistreliefproject.org/event/community-show-and-tell-july-2022/
LOCATION:Online
END:VEVENT
BEGIN:VEVENT
DTSTART;TZID=UTC:20220713T190000
DTEND;TZID=UTC:20220713T203000
DTSTAMP:20260419T153647
CREATED:20220709T090010Z
LAST-MODIFIED:20220709T090010Z
UID:2034-1657738800-1657744200@artistreliefproject.org
SUMMARY:Why You Need to Collab and How
DESCRIPTION:Learn about different ways to collaborate and collectivize as well as the great benefits of doing so. Designed specifically with ARP members in mind\, this workshop will be useful for artists\, performers\, and creatives in any discipline looking for more ideas how to use collaboration as a way to progress toward their professional goals. \nRegister for Why You Need to Collab and How
URL:https://artistreliefproject.org/event/why-you-need-to-collab-and-how/
LOCATION:Online
END:VEVENT
BEGIN:VEVENT
DTSTART;TZID=UTC:20220622T190000
DTEND;TZID=UTC:20220622T203000
DTSTAMP:20260419T153647
CREATED:20220603T194114Z
LAST-MODIFIED:20220603T194742Z
UID:1958-1655924400-1655929800@artistreliefproject.org
SUMMARY:Healing Through Art
DESCRIPTION:Explore how you can use your art to process emotions about recent events and to make a difference in their community. Designed specifically with ARP members in mind\, this workshop will be useful for artists\, performers\, and creatives in any discipline.  \nRegister for Healing Through Art.
URL:https://artistreliefproject.org/event/healing-through-art/
LOCATION:Online
END:VEVENT
BEGIN:VEVENT
DTSTART;TZID=UTC:20220622T160000
DTEND;TZID=UTC:20220622T170000
DTSTAMP:20260419T153647
CREATED:20220607T143204Z
LAST-MODIFIED:20220607T143204Z
UID:1978-1655913600-1655917200@artistreliefproject.org
SUMMARY:Show Us Your Newsletters!
DESCRIPTION:Following our newsletter workshop series\, reserve a seat in one of our fun\, supportive small group sessions to receive feedback about your newsletter (or draft) from a community of your fellow artists and creatives! \nReserve your seat in a Show Us Your Newsletters! Small Group Session.
URL:https://artistreliefproject.org/event/show-us-your-newsletters-6-22/
LOCATION:Online
END:VEVENT
BEGIN:VEVENT
DTSTART;TZID=UTC:20220620T130000
DTEND;TZID=UTC:20220620T140000
DTSTAMP:20260419T153647
CREATED:20220607T142944Z
LAST-MODIFIED:20220607T143722Z
UID:1976-1655730000-1655733600@artistreliefproject.org
SUMMARY:Show Us Your Newsletters!
DESCRIPTION:Following our newsletter workshop series\, reserve a seat in one of our fun\, supportive small group sessions to receive feedback about your newsletter (or draft) from a community of your fellow artists and creatives! \nReserve your seat in a Show Us Your Newsletters! Small Group Session.
URL:https://artistreliefproject.org/event/show-us-your-newsletters-6-20/
LOCATION:Online
END:VEVENT
BEGIN:VEVENT
DTSTART;TZID=UTC:20220616T110000
DTEND;TZID=UTC:20220616T120000
DTSTAMP:20260419T153647
CREATED:20220607T142626Z
LAST-MODIFIED:20220607T142701Z
UID:1973-1655377200-1655380800@artistreliefproject.org
SUMMARY:Show Us Your Newsletters!
DESCRIPTION:Following our newsletter workshop series\, reserve a seat in one of our fun\, supportive small group sessions to receive feedback about your newsletter (or draft) from a community of your fellow artists and creatives! \nReserve a seat in a Show Us Your Newsletters! Small Group Session.
URL:https://artistreliefproject.org/event/show-us-your-newsletters-6-16/
LOCATION:Online
END:VEVENT
BEGIN:VEVENT
DTSTART;TZID=UTC:20220615T183000
DTEND;TZID=UTC:20220615T200000
DTSTAMP:20260419T153647
CREATED:20220530T131951Z
LAST-MODIFIED:20220530T131951Z
UID:1953-1655317800-1655323200@artistreliefproject.org
SUMMARY:Intro to Personal Finance: Managing Debt and Using Credit Cards
DESCRIPTION:An introductory-level overview on different kinds of debt and how to manage it\, including a discussion on how credit cards work and how to manage them to keep costs down. \nReserve your space for Managing Debt and Using Credit Cards. \nThis opportunity is free and open to practicing artists in any discipline. Don’t miss out! \nSign up to receive updates.
URL:https://artistreliefproject.org/event/intro-to-personal-finance-managing-debt-and-using-credit-cards/
LOCATION:Online
END:VEVENT
BEGIN:VEVENT
DTSTART;TZID=UTC:20220613T160000
DTEND;TZID=UTC:20220613T170000
DTSTAMP:20260419T153647
CREATED:20220607T142341Z
LAST-MODIFIED:20220607T142737Z
UID:1970-1655136000-1655139600@artistreliefproject.org
SUMMARY:Show Us Your Newsletters!
DESCRIPTION:Following our newsletter workshop series\, reserve a seat in one of our fun\, supportive small group sessions to receive feedback about your newsletter (or draft) from a community of your fellow artists and creatives! \nReserve your seat in a Show Us Your Newsletters! Small Group Session.
URL:https://artistreliefproject.org/event/show-us-your-newsletters-6-13/
LOCATION:Online
END:VEVENT
BEGIN:VEVENT
DTSTART;TZID=UTC:20220609T190000
DTEND;TZID=UTC:20220609T210000
DTSTAMP:20260419T153647
CREATED:20220530T125059Z
LAST-MODIFIED:20220530T125059Z
UID:1949-1654801200-1654808400@artistreliefproject.org
SUMMARY:Community Show and Tell June 2022
DESCRIPTION:Share about your arts-related projects and goals\, and learn what other ARP members are working on in our monthly live peer share and discussion! Artists in all disciplines are welcome and encourage to attend\, and sharing is not required if you would like to participate as an observer and supportive community member. \nReserve your seat in the Community Show and Tell. \n(Note: This opportunity is open to ARP Community Members. ARP Membership is free and open to practicing artists in any discipline. If you’re not already an ARP member\, use this link to request membership.)
URL:https://artistreliefproject.org/event/community-show-and-tell-june-2022/
LOCATION:Online
END:VEVENT
BEGIN:VEVENT
DTSTART;TZID=UTC:20220601T190000
DTEND;TZID=UTC:20220601T203000
DTSTAMP:20260419T153647
CREATED:20220425T134905Z
LAST-MODIFIED:20220425T134905Z
UID:1918-1654110000-1654115400@artistreliefproject.org
SUMMARY:Writing Engaging Newsletter Content
DESCRIPTION:In this workshop\, learn how to create engaging and consistent written content for your email newsletter. We’ll discuss options for recurring and new content\, and you’ll receive guidance on questions of tone\, design\, and frequency. \nReserve your seat in Writing Engaging Newsletter Content. \nThis opportunity is free and open to artists\, performers\, and creatives in any discipline. Don’t miss out!
URL:https://artistreliefproject.org/event/writing-engaging-newsletter-content/
LOCATION:Online
END:VEVENT
BEGIN:VEVENT
DTSTART;TZID=UTC:20220525T190000
DTEND;TZID=UTC:20220525T203000
DTSTAMP:20260419T153647
CREATED:20220425T135924Z
LAST-MODIFIED:20220425T135924Z
UID:1922-1653505200-1653510600@artistreliefproject.org
SUMMARY:Planning a Newsletter Campaign
DESCRIPTION:Start planning your newsletter campaign\, from developing ideas for content to scheduling release\, and thinking in a more long-term\, sustainable way. \nReserve your seat for Planning a Newsletter Campaign workshop. \nThis opportunity is open to practicing artists\, performers\, and creatives in any discipline. Don’t miss out!
URL:https://artistreliefproject.org/event/planning-a-newsletter-campaign/
LOCATION:Online
END:VEVENT
BEGIN:VEVENT
DTSTART;TZID=UTC:20220518T190000
DTEND;TZID=UTC:20220518T203000
DTSTAMP:20260419T153647
CREATED:20220425T132655Z
LAST-MODIFIED:20220425T132655Z
UID:1914-1652900400-1652905800@artistreliefproject.org
SUMMARY:What to Consider Before Starting a Newsletter
DESCRIPTION:In this workshop\, determine whether starting an email newsletter is right for you and your audience. You’ll learn the initial requirements regarding setup and logistics and be introduced to some of the different email marketing platforms and options you might consider. \nReserve your seat in What to Consider Before Starting a Newsletter. \nThis opportunity is free and open to practicing artists\, performers\, and creatives in any discipline. Don’t miss out!
URL:https://artistreliefproject.org/event/what-to-consider-before-starting-a-newsletter/
LOCATION:Online
END:VEVENT
BEGIN:VEVENT
DTSTART;TZID=America/Chicago:20220512T190000
DTEND;TZID=America/Chicago:20220512T203000
DTSTAMP:20260419T153647
CREATED:20220306T002342Z
LAST-MODIFIED:20220425T130652Z
UID:1824-1652382000-1652387400@artistreliefproject.org
SUMMARY:Community Show and Tell May 2022
DESCRIPTION:Share about your arts-related projects and goals\, and learn what other ARP members are working on in our monthly live peer share and discussion! \nReserve your seat in the Community Show and Tell. \n(Note: This opportunity is open to ARP Community Members. ARP Membership is free and open to practicing artists in any discipline. If you’re not already an ARP member\, use this link to request membership.)
URL:https://artistreliefproject.org/event/community-show-and-tell-may-2022/
LOCATION:Online
END:VEVENT
BEGIN:VEVENT
DTSTART;TZID=America/Chicago:20220511T183000
DTEND;TZID=America/Chicago:20220511T200000
DTSTAMP:20260419T153647
CREATED:20220306T003257Z
LAST-MODIFIED:20220425T125950Z
UID:1826-1652293800-1652299200@artistreliefproject.org
SUMMARY:Intro to Personal Finance: Credit Reports and Scores
DESCRIPTION:An introductory-level overview of how to understand\, access\, and improve your credit reports and scores. \nReserve your space for Your Credit Reports and Scores. \nThis opportunity is free and open to practicing artists in any discipline. Don’t miss out! \nSign up to receive updates.
URL:https://artistreliefproject.org/event/intro-to-personal-finance-credit-reports-and-scores/
LOCATION:Online
END:VEVENT
BEGIN:VEVENT
DTSTART;TZID=UTC:20220427T190000
DTEND;TZID=UTC:20220427T203000
DTSTAMP:20260419T153647
CREATED:20220402T225332Z
LAST-MODIFIED:20220402T225538Z
UID:1890-1651086000-1651091400@artistreliefproject.org
SUMMARY:Creating a Social Media Campaign
DESCRIPTION:An online workshop to help you begin drafting a month-long social media campaign. You’ll learn how to build a social media kit and what makes an effective social media post\, and you’ll receive templates and resources to guide the development of your campaign. \nRegister for Creating a Social Media Campaign Online Workshop. \nNote: This free webinar opportunity is open to ARP members and/ or practicing artists who have requested support from Artist Relief Project. If you’re not already a member\, you may request membership at this link.
URL:https://artistreliefproject.org/event/creating-a-social-media-campaign/
LOCATION:Online
END:VEVENT
BEGIN:VEVENT
DTSTART;TZID=America/Chicago:20220421T190000
DTEND;TZID=America/Chicago:20220421T210000
DTSTAMP:20260419T153647
CREATED:20220306T002040Z
LAST-MODIFIED:20220323T112646Z
UID:1822-1650567600-1650574800@artistreliefproject.org
SUMMARY:Community Show and Tell April 2022
DESCRIPTION:Share about your arts-related projects and goals\, and learn what other ARP members are working on in our monthly live peer share and discussion! \nRequest a seat in the Community Show and Tell. \n(Note: This opportunity is open to ARP Community Members. ARP Membership is free and open to practicing artists in any discipline. If you’re not already an ARP member\, use this link to request membership.)
URL:https://artistreliefproject.org/event/community-show-and-tell-april-2022/
LOCATION:Online
END:VEVENT
BEGIN:VEVENT
DTSTART;VALUE=DATE:20220411
DTEND;VALUE=DATE:20220418
DTSTAMP:20260419T153647
CREATED:20220323T105811Z
LAST-MODIFIED:20220323T105811Z
UID:1870-1649635200-1650239999@artistreliefproject.org
SUMMARY:No Class
DESCRIPTION:See you again soon!
URL:https://artistreliefproject.org/event/no-class/
LOCATION:Online
END:VEVENT
BEGIN:VEVENT
DTSTART;TZID=UTC:20220406T190000
DTEND;TZID=UTC:20220406T203000
DTSTAMP:20260419T153647
CREATED:20220315T011729Z
LAST-MODIFIED:20220323T110409Z
UID:1833-1649271600-1649277000@artistreliefproject.org
SUMMARY:Drafting Professional Letters
DESCRIPTION:Learn various common letter types and purposes used in arts professions\, focusing on cover letters\, but also addressing overlaps with letters of interest/ intent\, letters of introduction\, and letters of inquiry. \nRegister for the Drafting Professional Letters webinar. \n(Note: This opportunity is open to ARP Community Members. ARP Membership is free and open to practicing artists in any discipline. If you’re not already an ARP member\, use this link to request membership.) \n 
URL:https://artistreliefproject.org/event/drafting-professional-letters/
LOCATION:Online
END:VEVENT
END:VCALENDAR