BEGIN:VCALENDAR
VERSION:2.0
PRODID:-//Artist Relief Project - ECPv6.15.14//NONSGML v1.0//EN
CALSCALE:GREGORIAN
METHOD:PUBLISH
X-WR-CALNAME:Artist Relief Project
X-ORIGINAL-URL:https://artistreliefproject.org
X-WR-CALDESC:Events for Artist Relief Project
REFRESH-INTERVAL;VALUE=DURATION:PT1H
X-Robots-Tag:noindex
X-PUBLISHED-TTL:PT1H
BEGIN:VTIMEZONE
TZID:America/Chicago
BEGIN:DAYLIGHT
TZOFFSETFROM:-0600
TZOFFSETTO:-0500
TZNAME:CDT
DTSTART:20190310T080000
END:DAYLIGHT
BEGIN:STANDARD
TZOFFSETFROM:-0500
TZOFFSETTO:-0600
TZNAME:CST
DTSTART:20191103T070000
END:STANDARD
BEGIN:DAYLIGHT
TZOFFSETFROM:-0600
TZOFFSETTO:-0500
TZNAME:CDT
DTSTART:20200308T080000
END:DAYLIGHT
BEGIN:STANDARD
TZOFFSETFROM:-0500
TZOFFSETTO:-0600
TZNAME:CST
DTSTART:20201101T070000
END:STANDARD
BEGIN:DAYLIGHT
TZOFFSETFROM:-0600
TZOFFSETTO:-0500
TZNAME:CDT
DTSTART:20210314T080000
END:DAYLIGHT
BEGIN:STANDARD
TZOFFSETFROM:-0500
TZOFFSETTO:-0600
TZNAME:CST
DTSTART:20211107T070000
END:STANDARD
END:VTIMEZONE
BEGIN:VEVENT
DTSTART;TZID=America/Chicago:20200923T183000
DTEND;TZID=America/Chicago:20200923T200000
DTSTAMP:20260420T172614
CREATED:20200914T122231Z
LAST-MODIFIED:20200914T122231Z
UID:729-1600885800-1600891200@artistreliefproject.org
SUMMARY:Financial Wellness Webinar: Borrowing Basics
DESCRIPTION:Part of our 4-part Financial Wellness Webinar Series \nLearn about options for borrowing money and how much they cost. \nRegister for the Borrowing Basics Webinar.
URL:https://artistreliefproject.org/event/financial-wellness-webinar-borrowing-basics/
LOCATION:Online
ATTACH;FMTTYPE=image/png:https://artistreliefproject.org/wp-content/uploads/2020/09/ws-sept-23-borrowing.png
END:VEVENT
BEGIN:VEVENT
DTSTART;TZID=America/Chicago:20200922T183000
DTEND;TZID=America/Chicago:20200922T200000
DTSTAMP:20260420T172614
CREATED:20200914T121922Z
LAST-MODIFIED:20200914T121922Z
UID:726-1600799400-1600804800@artistreliefproject.org
SUMMARY:Smartphone Video Production Online Workshop
DESCRIPTION:Part of our 4-part Smartphone Filmmaking for Artists Online Workshop Series \nLearn the basic principles of shooting video with a smartphone using professional apps. \nRegister for Smartphone Filmmaking Series
URL:https://artistreliefproject.org/event/smartphone-video-production-online-workshop/
LOCATION:Online
ATTACH;FMTTYPE=image/png:https://artistreliefproject.org/wp-content/uploads/2020/09/ws-2-sept-22.png
END:VEVENT
BEGIN:VEVENT
DTSTART;TZID=America/Chicago:20200917T183000
DTEND;TZID=America/Chicago:20200917T200000
DTSTAMP:20260420T172614
CREATED:20200913T142458Z
LAST-MODIFIED:20200913T142458Z
UID:714-1600367400-1600372800@artistreliefproject.org
SUMMARY:Smartphone Photography Basics Online Workshop
DESCRIPTION:Part of our 4-part Smartphone Filmmaking for Artists Online Workshop Series \nLearn basic principles of photography for smartphones (camera basics\, framing\, lighting\, color\, tone) and use of smartphone photography apps. \nRegister for Smartphone Filmmaking Series
URL:https://artistreliefproject.org/event/smartphone-photography-basics-online-workshop/
LOCATION:Online
ATTACH;FMTTYPE=image/png:https://artistreliefproject.org/wp-content/uploads/2020/09/workshop-1-sept-17.png
END:VEVENT
BEGIN:VEVENT
DTSTART;TZID=America/Chicago:20200916T183000
DTEND;TZID=America/Chicago:20200916T200000
DTSTAMP:20260420T172614
CREATED:20200914T121529Z
LAST-MODIFIED:20200914T121529Z
UID:723-1600281000-1600286400@artistreliefproject.org
SUMMARY:Financial Wellness Webinar: Credit Reports & Scores
DESCRIPTION:Part of our 4-part Financial Wellness Webinar Series. \nLearn how to understand\, access\, and improve your credit reports and scores. \nRegister for the Credit Reports & Scores Webinar
URL:https://artistreliefproject.org/event/financial-wellness-webinar-credit-reports-scores/
LOCATION:Online
ATTACH;FMTTYPE=image/png:https://artistreliefproject.org/wp-content/uploads/2020/09/ws-sept-16-credit.png
END:VEVENT
BEGIN:VEVENT
DTSTART;TZID=America/Chicago:20200915T183000
DTEND;TZID=America/Chicago:20200915T200000
DTSTAMP:20260420T172614
CREATED:20200914T121109Z
LAST-MODIFIED:20200914T121109Z
UID:720-1600194600-1600200000@artistreliefproject.org
SUMMARY:Smartphone Filmmaking Accessories Online Workshop
DESCRIPTION:Part of our 4-part Smartphone Filmmaking Workshop for Artists Workshop Series. \nLearn about low-budget smartphone filmmaking equipment and accessories. \nRegister for Smartphone Filmmaking Series
URL:https://artistreliefproject.org/event/smartphone-filmmaking-accessories-online-workshop/
LOCATION:Online
ATTACH;FMTTYPE=image/png:https://artistreliefproject.org/wp-content/uploads/2020/09/ws-4-sept-15.png
END:VEVENT
BEGIN:VEVENT
DTSTART;TZID=America/Chicago:20200910T183000
DTEND;TZID=America/Chicago:20200910T200000
DTSTAMP:20260420T172614
CREATED:20200916T095914Z
LAST-MODIFIED:20200916T095914Z
UID:750-1599762600-1599768000@artistreliefproject.org
SUMMARY:Smartphone Video Editing Online Workshop
DESCRIPTION:Part of our 4-part Smartphone Filmmaking for Artists Online Workshop Series \nLearn the basic principles of editing videos using select Smartphone apps. \nRegister for Smartphone Filmmaking Series.
URL:https://artistreliefproject.org/event/smartphone-video-editing-online-workshop-2/
LOCATION:Online
ATTACH;FMTTYPE=image/png:https://artistreliefproject.org/wp-content/uploads/2020/09/ws-3-sept-10.png
END:VEVENT
BEGIN:VEVENT
DTSTART;TZID=America/Chicago:20200909T183000
DTEND;TZID=America/Chicago:20200909T200000
DTSTAMP:20260420T172614
CREATED:20200916T100614Z
LAST-MODIFIED:20200916T100614Z
UID:758-1599676200-1599681600@artistreliefproject.org
SUMMARY:Financial Wellness Webinar: Preparing for and Recovering from Disaster
DESCRIPTION:Part of our 4-part Financial Wellness Webinar Series. \nLearn steps to prepare for and recover from disasters in the future. \nRegister for the Credit Reports & Scores Webinar
URL:https://artistreliefproject.org/event/financial-wellness-webinar-preparing-for-and-recovering-from-disaster/
LOCATION:Online
ATTACH;FMTTYPE=image/png:https://artistreliefproject.org/wp-content/uploads/2020/09/ws-sept-9-financial-recovery.png
END:VEVENT
BEGIN:VEVENT
DTSTART;TZID=America/Chicago:20200908T183000
DTEND;TZID=America/Chicago:20200908T193000
DTSTAMP:20260420T172614
CREATED:20200916T095500Z
LAST-MODIFIED:20200916T095621Z
UID:747-1599589800-1599593400@artistreliefproject.org
SUMMARY:Smartphone Video Production Online Workshop
DESCRIPTION:Part of our 4-part Smartphone Filmmaking for Artists Online Workshop Series \nLearn the basic principles of shooting video with a smartphone using professional apps. \nRegister for Smartphone Filmmaking Series
URL:https://artistreliefproject.org/event/smartphone-video-production-online-workshop-2/
LOCATION:Online
ATTACH;FMTTYPE=image/png:https://artistreliefproject.org/wp-content/uploads/2020/09/ws-2-sept-8.png
END:VEVENT
BEGIN:VEVENT
DTSTART;TZID=America/Chicago:20200903T183000
DTEND;TZID=America/Chicago:20200903T193000
DTSTAMP:20260420T172614
CREATED:20200916T100157Z
LAST-MODIFIED:20200916T100157Z
UID:755-1599157800-1599161400@artistreliefproject.org
SUMMARY:Smartphone Photography Basics Online Workshop
DESCRIPTION:Part of our 4-part Smartphone Filmmaking for Artists Online Workshop Series \nLearn basic principles of photography for smartphones (camera basics\, framing\, lighting\, color\, tone) and use of smartphone photography apps. \nRegister for Smartphone Filmmaking Series
URL:https://artistreliefproject.org/event/smartphone-photography-basics-online-workshop-2/
LOCATION:Online
ATTACH;FMTTYPE=image/png:https://artistreliefproject.org/wp-content/uploads/2020/09/ws-1-sept-3.png
END:VEVENT
BEGIN:VEVENT
DTSTART;VALUE=DATE:20200530
DTEND;VALUE=DATE:20200601
DTSTAMP:20260420T172614
CREATED:20200511T033204Z
LAST-MODIFIED:20200526T061900Z
UID:496-1590796800-1590969599@artistreliefproject.org
SUMMARY:VBT LIVE COVID19 Relief Fundraiser
DESCRIPTION:A 2-day live broadcast fundraiser and showcase of musical performers\, vaudeville acts\, poets\, businesses\, visual artists\, and interviews to raise funds for artists who have been affected by the COVID19 crisis. Tune into the broadcast at VBT Live on Facebook\, Youtube\, or Twitch. \nViewing is free\, and any donations will benefit impacted artists through Artist Relief Project.
URL:https://artistreliefproject.org/event/vbt-live-covid19-relief-fundraiser/
CATEGORIES:Fundraisers
ATTACH;FMTTYPE=image/jpeg:https://artistreliefproject.org/wp-content/uploads/2020/05/VBT-Live-concert-Benefiting-Artist-Relief-Project.jpg
END:VEVENT
BEGIN:VEVENT
DTSTART;TZID=America/Chicago:20200509T100000
DTEND;TZID=America/Chicago:20200509T230000
DTSTAMP:20260420T172614
CREATED:20200511T032929Z
LAST-MODIFIED:20200511T032929Z
UID:494-1589018400-1589065200@artistreliefproject.org
SUMMARY:Stream What Ya Mama Gave Ya
DESCRIPTION:A live broadcast fundraising event by Eventures featuring music\, art\, yoga\, comedy\, and performance art by performers from all over the United States. Enjoy as creatives across the nation connect with their families and the world while also raising funds for their fellow artists in need. \nFree to view on Twitch. \nDonations will support artists impacted by the COVID-19 crisis through Artist Relief Project.
URL:https://artistreliefproject.org/event/stream-what-ya-mama-gave-ya/
CATEGORIES:Fundraisers
ATTACH;FMTTYPE=image/jpeg:https://artistreliefproject.org/wp-content/uploads/2020/05/Stream-What-Yo-Mama-Gave-Yat-Benefiting-Artist-Relief-Project.jpg
END:VEVENT
BEGIN:VEVENT
DTSTART;TZID=America/Chicago:20200503T140000
DTEND;TZID=America/Chicago:20200503T170000
DTSTAMP:20260420T172614
CREATED:20200511T032324Z
LAST-MODIFIED:20200511T032324Z
UID:492-1588514400-1588525200@artistreliefproject.org
SUMMARY:Harmony For Healing Live Stream Concert Event
DESCRIPTION:A live-stream concert and fundraising event by Juilliard music students from around the world in support of artists who have been impacted by the COVID-19 crisis. \nFree to view on Youtube at Harmony for Healing. \nDonations will benefit Artist Relief Project to support artists who have been financially impacted by events cancellations and closures due to the COVID19 crisis.
URL:https://artistreliefproject.org/event/harmony-for-healing-live-stream-concert-event/
CATEGORIES:Fundraisers
ATTACH;FMTTYPE=image/jpeg:https://artistreliefproject.org/wp-content/uploads/2020/05/Harmony-for-Healing-concert-Benefiting-Artist-Relief-Project.jpg
END:VEVENT
END:VCALENDAR