BEGIN:VCALENDAR
VERSION:2.0
PRODID:-//Artist Relief Project - ECPv6.15.14//NONSGML v1.0//EN
CALSCALE:GREGORIAN
METHOD:PUBLISH
X-WR-CALNAME:Artist Relief Project
X-ORIGINAL-URL:https://artistreliefproject.org
X-WR-CALDESC:Events for Artist Relief Project
REFRESH-INTERVAL;VALUE=DURATION:PT1H
X-Robots-Tag:noindex
X-PUBLISHED-TTL:PT1H
BEGIN:VTIMEZONE
TZID:America/Chicago
BEGIN:DAYLIGHT
TZOFFSETFROM:-0600
TZOFFSETTO:-0500
TZNAME:CDT
DTSTART:20190310T080000
END:DAYLIGHT
BEGIN:STANDARD
TZOFFSETFROM:-0500
TZOFFSETTO:-0600
TZNAME:CST
DTSTART:20191103T070000
END:STANDARD
BEGIN:DAYLIGHT
TZOFFSETFROM:-0600
TZOFFSETTO:-0500
TZNAME:CDT
DTSTART:20200308T080000
END:DAYLIGHT
BEGIN:STANDARD
TZOFFSETFROM:-0500
TZOFFSETTO:-0600
TZNAME:CST
DTSTART:20201101T070000
END:STANDARD
BEGIN:DAYLIGHT
TZOFFSETFROM:-0600
TZOFFSETTO:-0500
TZNAME:CDT
DTSTART:20210314T080000
END:DAYLIGHT
BEGIN:STANDARD
TZOFFSETFROM:-0500
TZOFFSETTO:-0600
TZNAME:CST
DTSTART:20211107T070000
END:STANDARD
END:VTIMEZONE
BEGIN:VEVENT
DTSTART;TZID=America/Chicago:20201109T183000
DTEND;TZID=America/Chicago:20201109T200000
DTSTAMP:20260420T140439
CREATED:20201104T134339Z
LAST-MODIFIED:20201104T134339Z
UID:897-1604946600-1604952000@artistreliefproject.org
SUMMARY:Beginners' Smartphone Photography
DESCRIPTION:Overview of the basic principles of photography for smartphones (camera basics\, framing\, lighting\, color tone) and how to use select Smartphone photography apps to capture and edit photos. \nRegister for the Beginners’ Smartphone Photography Course.
URL:https://artistreliefproject.org/event/beginners-smartphone-photography/
LOCATION:Online
END:VEVENT
BEGIN:VEVENT
DTSTART;TZID=America/Chicago:20201029T183000
DTEND;TZID=America/Chicago:20201029T200000
DTSTAMP:20260420T140439
CREATED:20201011T134037Z
LAST-MODIFIED:20201013T022233Z
UID:845-1603996200-1604001600@artistreliefproject.org
SUMMARY:Smartphone Filmmaking Accessories & Equipment Online Workshop
DESCRIPTION:Part of our 4-part Smartphone Filmmaking Workshop for Artists Workshop Series. \nLearn about budget-friendly smartphone filmmaking equipment and accessories. \nRegister for Smartphone Filmmaking Series
URL:https://artistreliefproject.org/event/smartphone-filmmaking-accessories-equipment-online-workshop-2/
LOCATION:Online
END:VEVENT
BEGIN:VEVENT
DTSTART;TZID=America/Chicago:20201028T190000
DTEND;TZID=America/Chicago:20201028T203000
DTSTAMP:20260420T140439
CREATED:20201010T174402Z
LAST-MODIFIED:20201011T134759Z
UID:836-1603911600-1603917000@artistreliefproject.org
SUMMARY:Balancing Social Media in Your Schedule Online Workshop
DESCRIPTION:Part 4 of our 4-part interactive online workshop series “How to Build Your Online Community.” \nIdentify which channels/ platforms you should focus on to reach your audience and how to balance them in your schedule. \nRegister for the “Build Your Online Community” workshop series.
URL:https://artistreliefproject.org/event/balancing-social-media-in-your-schedule/
LOCATION:Online
END:VEVENT
BEGIN:VEVENT
DTSTART;TZID=America/Chicago:20201028T183000
DTEND;TZID=America/Chicago:20201028T200000
DTSTAMP:20260420T140439
CREATED:20200930T235413Z
LAST-MODIFIED:20201001T000849Z
UID:791-1603909800-1603915200@artistreliefproject.org
SUMMARY:Small Business Financial Webinar: How Businesses Use Credit
DESCRIPTION:Part of our 4-part Financial Empowerment Webinar Series for Small Businesses\, Freelance Workers\, and Independent Contractors \nLearn about the types of credit available to a small business owner. \nRegister for How Businesses Use Credit Webinar
URL:https://artistreliefproject.org/event/small-business-financial-webinar-how-businesses-use-credit/
LOCATION:Online
END:VEVENT
BEGIN:VEVENT
DTSTART;TZID=America/Chicago:20201027T190000
DTEND;TZID=America/Chicago:20201027T203000
DTSTAMP:20260420T140439
CREATED:20201010T173558Z
LAST-MODIFIED:20201011T134717Z
UID:828-1603825200-1603830600@artistreliefproject.org
SUMMARY:Connecting with Your Audience via Zoom Online Workshop
DESCRIPTION:Part 4 of our 4-part Zoom Basics for Artists\, Musicians\, & Performers series. \nLearn how to use Zoom features and presentation style to accommodate and appeal to different audiences. \nRegister for the Zoom Basics series.
URL:https://artistreliefproject.org/event/connecting-with-your-audience-via-zoom/
LOCATION:Online
END:VEVENT
BEGIN:VEVENT
DTSTART;TZID=America/Chicago:20201027T183000
DTEND;TZID=America/Chicago:20201027T200000
DTSTAMP:20260420T140439
CREATED:20201011T133909Z
LAST-MODIFIED:20201013T022155Z
UID:843-1603823400-1603828800@artistreliefproject.org
SUMMARY:Smartphone Video Editing Online Workshop
DESCRIPTION:Part of our 4-part Smartphone Filmmaking for Artists Online Workshop Series \nLearn the basic principles of editing videos using select Smartphone apps. \nRegister for Smartphone Filmmaking Series.
URL:https://artistreliefproject.org/event/smartphone-video-editing-online-workshop-3/
LOCATION:Online
END:VEVENT
BEGIN:VEVENT
DTSTART;TZID=America/Chicago:20201022T183000
DTEND;TZID=America/Chicago:20201022T200000
DTSTAMP:20260420T140439
CREATED:20201011T133303Z
LAST-MODIFIED:20201013T022121Z
UID:840-1603391400-1603396800@artistreliefproject.org
SUMMARY:Smartphone Video Production Online Workshop
DESCRIPTION:Part of our 4-part Smartphone Filmmaking for Artists Online Workshop Series \nLearn the basics of capturing video with a smartphone using professional apps. \nRegister for Smartphone Filmmaking Series
URL:https://artistreliefproject.org/event/smartphone-video-production-online-workshop-4/
LOCATION:Online
END:VEVENT
BEGIN:VEVENT
DTSTART;TZID=America/Chicago:20201021T190000
DTEND;TZID=America/Chicago:20201021T203000
DTSTAMP:20260420T140439
CREATED:20201010T174241Z
LAST-MODIFIED:20201011T134645Z
UID:834-1603306800-1603312200@artistreliefproject.org
SUMMARY:Deepening Your Relationships Online Workshop
DESCRIPTION:Part 3 of our 4-part interactive online workshop series “How to Build Your Online Community.” \n\nLearn why it’s important build an online network/ community and how you can cultivate meaningful relationships with your target audience.\n\nRegister for the “Build Your Online Community” workshop series.
URL:https://artistreliefproject.org/event/deepening-your-relationships-online/
LOCATION:Online
END:VEVENT
BEGIN:VEVENT
DTSTART;TZID=America/Chicago:20201021T183000
DTEND;TZID=America/Chicago:20201021T200000
DTSTAMP:20260420T140439
CREATED:20200930T234655Z
LAST-MODIFIED:20201001T000551Z
UID:789-1603305000-1603310400@artistreliefproject.org
SUMMARY:Small Business Financial Webinar: How Businesses Obtain Credit
DESCRIPTION:Part of our 4-part Financial Empowerment Webinar Series for Small Businesses\, Freelance Workers\, and Independent Contractors \nLearn the value of creditworthiness as a small business owner and how to maintain a good business credit score. \nRegister for How Businesses Obtain Credit Webinar
URL:https://artistreliefproject.org/event/small-business-financial-webinar-how-businesses-obtain-credit/
LOCATION:Online
END:VEVENT
BEGIN:VEVENT
DTSTART;TZID=America/Chicago:20201020T190000
DTEND;TZID=America/Chicago:20201020T203000
DTSTAMP:20260420T140439
CREATED:20201010T173411Z
LAST-MODIFIED:20201011T134619Z
UID:826-1603220400-1603225800@artistreliefproject.org
SUMMARY:Your Zoom Workspace Online Workshop
DESCRIPTION:Part 3 of our 4-part Zoom Basics for Artists\, Musicians\, & Performers series. \nLearn how to present yourself professionally on the Zoom platform by mastering your lighting\, background\, camera angles\, audio\, and more.\nRegister for the Zoom Basics series.
URL:https://artistreliefproject.org/event/your-zoom-workspace/
LOCATION:Online
END:VEVENT
BEGIN:VEVENT
DTSTART;TZID=America/Chicago:20201020T183000
DTEND;TZID=America/Chicago:20201020T200000
DTSTAMP:20260420T140439
CREATED:20201011T132922Z
LAST-MODIFIED:20201013T015835Z
UID:838-1603218600-1603224000@artistreliefproject.org
SUMMARY:Smartphone Photography Basics Online Workshop
DESCRIPTION:Part of our 4-part Smartphone Filmmaking for Artists Online Workshop Series \nLearn basic principles of photography for smartphones (camera basics\, framing\, lighting\, color\, tone) and use of smartphone photography apps. \nRegister for Smartphone Filmmaking Series
URL:https://artistreliefproject.org/event/smartphone-photography-basics/
LOCATION:Online
END:VEVENT
BEGIN:VEVENT
DTSTART;TZID=America/Chicago:20201015T183000
DTEND;TZID=America/Chicago:20201015T200000
DTSTAMP:20260420T140439
CREATED:20200930T212249Z
LAST-MODIFIED:20201011T135028Z
UID:781-1602786600-1602792000@artistreliefproject.org
SUMMARY:Smartphone Filmmaking Accessories & Equipment Online Workshop
DESCRIPTION:Part of our 4-part Smartphone Filmmaking Workshop for Artists Workshop Series. \nLearn about budget-friendly smartphone filmmaking equipment and accessories. \nRegister for Smartphone Filmmaking Series
URL:https://artistreliefproject.org/event/smartphone-filmmaking-accessories-equipment-online-workshop/
LOCATION:Online
END:VEVENT
BEGIN:VEVENT
DTSTART;TZID=America/Chicago:20201014T190000
DTEND;TZID=America/Chicago:20201014T203000
DTSTAMP:20260420T140439
CREATED:20201010T174107Z
LAST-MODIFIED:20201011T134542Z
UID:832-1602702000-1602707400@artistreliefproject.org
SUMMARY:Deepening Your Identity Online Workshop
DESCRIPTION:Part 2 of our 4-part interactive online workshop series “How to Build Your Online Community.” \nLearn why it’s important to personalize your content and how you can stand out and connect with your audience online.\nRegister for the “Build Your Online Community” workshop series.
URL:https://artistreliefproject.org/event/deepening-your-identity-online/
LOCATION:Online
END:VEVENT
BEGIN:VEVENT
DTSTART;TZID=America/Chicago:20201014T183000
DTEND;TZID=America/Chicago:20201014T200000
DTSTAMP:20260420T140439
CREATED:20200930T234421Z
LAST-MODIFIED:20201001T000342Z
UID:786-1602700200-1602705600@artistreliefproject.org
SUMMARY:Small Business Financial Webinar: Financial Statements
DESCRIPTION:Part of our 4-part Financial Empowerment Webinar Series for Small Businesses\, Freelance Workers\, and Independent Contractors \nLearn the three most important financial documents for operating as a small business: balance sheets\, profit & loss statements\, and cash flow reports. \nRegister for Financial Statements Webinar
URL:https://artistreliefproject.org/event/small-business-financial-webinar-financial-statements/
LOCATION:Online
END:VEVENT
BEGIN:VEVENT
DTSTART;TZID=America/Chicago:20201013T190000
DTEND;TZID=America/Chicago:20201013T203000
DTSTAMP:20260420T140439
CREATED:20201010T173152Z
LAST-MODIFIED:20201011T134457Z
UID:824-1602615600-1602621000@artistreliefproject.org
SUMMARY:Zoom Basics & Features Part 2 Online Workshop
DESCRIPTION:Part 2 of our 4-part Zoom Basics for Artists\, Musicians\, & Performers series. \nLearn the basic features of Zoom and understand its advantages and limitations in comparison with other apps/ platforms. \nRegister for the Zoom Basics series.
URL:https://artistreliefproject.org/event/zoom-basics-features-part-2/
LOCATION:Online
END:VEVENT
BEGIN:VEVENT
DTSTART;TZID=America/Chicago:20201013T183000
DTEND;TZID=America/Chicago:20201013T200000
DTSTAMP:20260420T140439
CREATED:20200930T211751Z
LAST-MODIFIED:20201011T134954Z
UID:779-1602613800-1602619200@artistreliefproject.org
SUMMARY:Smartphone Video Editing Online Workshop
DESCRIPTION:Part of our 4-part Smartphone Filmmaking for Artists Online Workshop Series \nLearn the basic principles of editing videos using select Smartphone apps. \nRegister for Smartphone Filmmaking Series.
URL:https://artistreliefproject.org/event/smartphone-video-editing-workshop/
LOCATION:Online
END:VEVENT
BEGIN:VEVENT
DTSTART;TZID=America/Chicago:20201008T183000
DTEND;TZID=America/Chicago:20201008T200000
DTSTAMP:20260420T140439
CREATED:20200930T211522Z
LAST-MODIFIED:20200930T211522Z
UID:777-1602181800-1602187200@artistreliefproject.org
SUMMARY:Smartphone Video Production Online Workshop
DESCRIPTION:Part of our 4-part Smartphone Filmmaking for Artists Online Workshop Series \nLearn the basic principles of shooting video with a smartphone using professional apps. \nRegister for Smartphone Filmmaking Series
URL:https://artistreliefproject.org/event/smartphone-video-production-online-workshop-3/
LOCATION:Online
ATTACH;FMTTYPE=image/png:https://artistreliefproject.org/wp-content/uploads/2020/09/smartphone-oct-6-to-15.png
END:VEVENT
BEGIN:VEVENT
DTSTART;TZID=America/Chicago:20201007T190000
DTEND;TZID=America/Chicago:20201007T203000
DTSTAMP:20260420T140439
CREATED:20201010T173924Z
LAST-MODIFIED:20201011T134419Z
UID:830-1602097200-1602102600@artistreliefproject.org
SUMMARY:Reach Your Audience Online Workshop
DESCRIPTION:Part of our 4-part interactive online workshop series “How to Build Your Online Community.” \nDiscuss how to define your target audience and where to find them online. \nRegister for the “Build Your Online Community” workshop series.
URL:https://artistreliefproject.org/event/reach-your-audience-online/
LOCATION:Online
END:VEVENT
BEGIN:VEVENT
DTSTART;TZID=America/Chicago:20201007T183000
DTEND;TZID=America/Chicago:20201007T200000
DTSTAMP:20260420T140439
CREATED:20200930T214608Z
LAST-MODIFIED:20201001T000138Z
UID:784-1602095400-1602100800@artistreliefproject.org
SUMMARY:Small Business Financial Webinar: Developing a Business Plan
DESCRIPTION:Part of our 4-part Financial Empowerment Webinar Series for Small Businesses\, Freelance Workers\, and Independent Contractors \nLearn the eight parts of a business plan and what to consider when writing a business plan. \nRegister for Developing a Business Plan Webinar
URL:https://artistreliefproject.org/event/small-business-financial-webinar-developing-a-business-plan/
LOCATION:Online
END:VEVENT
BEGIN:VEVENT
DTSTART;TZID=America/Chicago:20201006T190000
DTEND;TZID=America/Chicago:20201006T203000
DTSTAMP:20260420T140439
CREATED:20201010T172841Z
LAST-MODIFIED:20201011T134341Z
UID:822-1602010800-1602016200@artistreliefproject.org
SUMMARY:Zoom Basics & Features Part 1 Online Workshop
DESCRIPTION:Part 1 of our 4-part Zoom Basics for Artists\, Musicians\, & Performers series. \nLearn the basic features of Zoom and understand the different options and settings available on the platform. \nRegister for the Zoom Basics series. \n 
URL:https://artistreliefproject.org/event/zoom-basics-features-part-1/
LOCATION:Online
END:VEVENT
BEGIN:VEVENT
DTSTART;TZID=America/Chicago:20201006T183000
DTEND;TZID=America/Chicago:20201006T200000
DTSTAMP:20260420T140439
CREATED:20200930T211141Z
LAST-MODIFIED:20200930T211141Z
UID:774-1602009000-1602014400@artistreliefproject.org
SUMMARY:Smartphone Photography Basics Online Workshop
DESCRIPTION:Part of our 4-part Smartphone Filmmaking for Artists Online Workshop Series \nLearn basic principles of photography for smartphones (camera basics\, framing\, lighting\, color\, tone) and use of smartphone photography apps. \nRegister for Smartphone Filmmaking Series
URL:https://artistreliefproject.org/event/smartphone-photography-basics-online-workshop-3/
LOCATION:Online
ATTACH;FMTTYPE=image/png:https://artistreliefproject.org/wp-content/uploads/2020/09/smartphone-oct-6-to-15.png
END:VEVENT
BEGIN:VEVENT
DTSTART;TZID=America/Chicago:20200930T180000
DTEND;TZID=America/Chicago:20200930T200000
DTSTAMP:20260420T140439
CREATED:20200914T122531Z
LAST-MODIFIED:20200914T122531Z
UID:732-1601488800-1601496000@artistreliefproject.org
SUMMARY:Financial Wellness Webinar: Your Savings & Spending Plan
DESCRIPTION:Part of our 4-part Financial Wellness Webinar Series. \nPut together information about your income and expenses to develop a realistic savings & spending plan. \nRegister for Savings & Spending Plan Webinar.
URL:https://artistreliefproject.org/event/financial-wellness-webinar-your-savings-spending-plan/
LOCATION:Online
ATTACH;FMTTYPE=image/png:https://artistreliefproject.org/wp-content/uploads/2020/09/ws-sept-30-savings-spending.png
END:VEVENT
BEGIN:VEVENT
DTSTART;TZID=America/Chicago:20200929T183000
DTEND;TZID=America/Chicago:20200929T200000
DTSTAMP:20260420T140439
CREATED:20200914T123229Z
LAST-MODIFIED:20200914T123229Z
UID:738-1601404200-1601409600@artistreliefproject.org
SUMMARY:Smartphone Filmmaking Accessories Online Workshop
DESCRIPTION:Part of our 4-part Smartphone Filmmaking Workshop for Artists Workshop Series. \nLearn about low-budget smartphone filmmaking equipment and accessories. \nRegister for Smartphone Filmmaking Series
URL:https://artistreliefproject.org/event/smartphone-filmmaking-accessories-online-workshop-2/
LOCATION:Online
ATTACH;FMTTYPE=image/png:https://artistreliefproject.org/wp-content/uploads/2020/09/ws-4-sept-29.png
END:VEVENT
BEGIN:VEVENT
DTSTART;TZID=America/Chicago:20200924T183000
DTEND;TZID=America/Chicago:20200924T200000
DTSTAMP:20260420T140439
CREATED:20200914T122954Z
LAST-MODIFIED:20200914T122954Z
UID:735-1600972200-1600977600@artistreliefproject.org
SUMMARY:Smartphone Video Editing Online Workshop
DESCRIPTION:Part of our 4-part Smartphone Filmmaking for Artists Online Workshop Series \nLearn the basic principles of editing videos using select Smartphone apps. \nRegister for Smartphone Filmmaking Series.
URL:https://artistreliefproject.org/event/smartphone-video-editing-online-workshop/
LOCATION:Online
ATTACH;FMTTYPE=image/png:https://artistreliefproject.org/wp-content/uploads/2020/09/ws-3-sept-24.png
END:VEVENT
BEGIN:VEVENT
DTSTART;TZID=America/Chicago:20200923T183000
DTEND;TZID=America/Chicago:20200923T200000
DTSTAMP:20260420T140439
CREATED:20200914T122231Z
LAST-MODIFIED:20200914T122231Z
UID:729-1600885800-1600891200@artistreliefproject.org
SUMMARY:Financial Wellness Webinar: Borrowing Basics
DESCRIPTION:Part of our 4-part Financial Wellness Webinar Series \nLearn about options for borrowing money and how much they cost. \nRegister for the Borrowing Basics Webinar.
URL:https://artistreliefproject.org/event/financial-wellness-webinar-borrowing-basics/
LOCATION:Online
ATTACH;FMTTYPE=image/png:https://artistreliefproject.org/wp-content/uploads/2020/09/ws-sept-23-borrowing.png
END:VEVENT
BEGIN:VEVENT
DTSTART;TZID=America/Chicago:20200922T183000
DTEND;TZID=America/Chicago:20200922T200000
DTSTAMP:20260420T140439
CREATED:20200914T121922Z
LAST-MODIFIED:20200914T121922Z
UID:726-1600799400-1600804800@artistreliefproject.org
SUMMARY:Smartphone Video Production Online Workshop
DESCRIPTION:Part of our 4-part Smartphone Filmmaking for Artists Online Workshop Series \nLearn the basic principles of shooting video with a smartphone using professional apps. \nRegister for Smartphone Filmmaking Series
URL:https://artistreliefproject.org/event/smartphone-video-production-online-workshop/
LOCATION:Online
ATTACH;FMTTYPE=image/png:https://artistreliefproject.org/wp-content/uploads/2020/09/ws-2-sept-22.png
END:VEVENT
BEGIN:VEVENT
DTSTART;TZID=America/Chicago:20200917T183000
DTEND;TZID=America/Chicago:20200917T200000
DTSTAMP:20260420T140439
CREATED:20200913T142458Z
LAST-MODIFIED:20200913T142458Z
UID:714-1600367400-1600372800@artistreliefproject.org
SUMMARY:Smartphone Photography Basics Online Workshop
DESCRIPTION:Part of our 4-part Smartphone Filmmaking for Artists Online Workshop Series \nLearn basic principles of photography for smartphones (camera basics\, framing\, lighting\, color\, tone) and use of smartphone photography apps. \nRegister for Smartphone Filmmaking Series
URL:https://artistreliefproject.org/event/smartphone-photography-basics-online-workshop/
LOCATION:Online
ATTACH;FMTTYPE=image/png:https://artistreliefproject.org/wp-content/uploads/2020/09/workshop-1-sept-17.png
END:VEVENT
BEGIN:VEVENT
DTSTART;TZID=America/Chicago:20200916T183000
DTEND;TZID=America/Chicago:20200916T200000
DTSTAMP:20260420T140439
CREATED:20200914T121529Z
LAST-MODIFIED:20200914T121529Z
UID:723-1600281000-1600286400@artistreliefproject.org
SUMMARY:Financial Wellness Webinar: Credit Reports & Scores
DESCRIPTION:Part of our 4-part Financial Wellness Webinar Series. \nLearn how to understand\, access\, and improve your credit reports and scores. \nRegister for the Credit Reports & Scores Webinar
URL:https://artistreliefproject.org/event/financial-wellness-webinar-credit-reports-scores/
LOCATION:Online
ATTACH;FMTTYPE=image/png:https://artistreliefproject.org/wp-content/uploads/2020/09/ws-sept-16-credit.png
END:VEVENT
BEGIN:VEVENT
DTSTART;TZID=America/Chicago:20200915T183000
DTEND;TZID=America/Chicago:20200915T200000
DTSTAMP:20260420T140439
CREATED:20200914T121109Z
LAST-MODIFIED:20200914T121109Z
UID:720-1600194600-1600200000@artistreliefproject.org
SUMMARY:Smartphone Filmmaking Accessories Online Workshop
DESCRIPTION:Part of our 4-part Smartphone Filmmaking Workshop for Artists Workshop Series. \nLearn about low-budget smartphone filmmaking equipment and accessories. \nRegister for Smartphone Filmmaking Series
URL:https://artistreliefproject.org/event/smartphone-filmmaking-accessories-online-workshop/
LOCATION:Online
ATTACH;FMTTYPE=image/png:https://artistreliefproject.org/wp-content/uploads/2020/09/ws-4-sept-15.png
END:VEVENT
BEGIN:VEVENT
DTSTART;TZID=America/Chicago:20200910T183000
DTEND;TZID=America/Chicago:20200910T200000
DTSTAMP:20260420T140439
CREATED:20200916T095914Z
LAST-MODIFIED:20200916T095914Z
UID:750-1599762600-1599768000@artistreliefproject.org
SUMMARY:Smartphone Video Editing Online Workshop
DESCRIPTION:Part of our 4-part Smartphone Filmmaking for Artists Online Workshop Series \nLearn the basic principles of editing videos using select Smartphone apps. \nRegister for Smartphone Filmmaking Series.
URL:https://artistreliefproject.org/event/smartphone-video-editing-online-workshop-2/
LOCATION:Online
ATTACH;FMTTYPE=image/png:https://artistreliefproject.org/wp-content/uploads/2020/09/ws-3-sept-10.png
END:VEVENT
END:VCALENDAR