BEGIN:VCALENDAR
VERSION:2.0
PRODID:-//Artist Relief Project - ECPv6.15.14//NONSGML v1.0//EN
CALSCALE:GREGORIAN
METHOD:PUBLISH
X-WR-CALNAME:Artist Relief Project
X-ORIGINAL-URL:https://artistreliefproject.org
X-WR-CALDESC:Events for Artist Relief Project
REFRESH-INTERVAL;VALUE=DURATION:PT1H
X-Robots-Tag:noindex
X-PUBLISHED-TTL:PT1H
BEGIN:VTIMEZONE
TZID:America/Chicago
BEGIN:DAYLIGHT
TZOFFSETFROM:-0600
TZOFFSETTO:-0500
TZNAME:CDT
DTSTART:20190310T080000
END:DAYLIGHT
BEGIN:STANDARD
TZOFFSETFROM:-0500
TZOFFSETTO:-0600
TZNAME:CST
DTSTART:20191103T070000
END:STANDARD
BEGIN:DAYLIGHT
TZOFFSETFROM:-0600
TZOFFSETTO:-0500
TZNAME:CDT
DTSTART:20200308T080000
END:DAYLIGHT
BEGIN:STANDARD
TZOFFSETFROM:-0500
TZOFFSETTO:-0600
TZNAME:CST
DTSTART:20201101T070000
END:STANDARD
BEGIN:DAYLIGHT
TZOFFSETFROM:-0600
TZOFFSETTO:-0500
TZNAME:CDT
DTSTART:20210314T080000
END:DAYLIGHT
BEGIN:STANDARD
TZOFFSETFROM:-0500
TZOFFSETTO:-0600
TZNAME:CST
DTSTART:20211107T070000
END:STANDARD
END:VTIMEZONE
BEGIN:VEVENT
DTSTART;TZID=America/Chicago:20201215T190000
DTEND;TZID=America/Chicago:20201215T210000
DTSTAMP:20260420T105731
CREATED:20201130T094755Z
LAST-MODIFIED:20201130T094755Z
UID:1034-1608058800-1608066000@artistreliefproject.org
SUMMARY:How to Make a Crowd-Funding/ Patreon Video
DESCRIPTION:Learn how to set yourself up for success with a professional video for your crowdfunding campaign or Patreon page. \nRegister for the “How To Make a Crowdfunding/ Patreon Video” Workshop
URL:https://artistreliefproject.org/event/how-to-make-a-crowd-funding-patreon-video/
LOCATION:Online
END:VEVENT
BEGIN:VEVENT
DTSTART;TZID=America/Chicago:20201215T183000
DTEND;TZID=America/Chicago:20201215T203000
DTSTAMP:20260420T105731
CREATED:20201129T130444Z
LAST-MODIFIED:20201129T130444Z
UID:1006-1608057000-1608064200@artistreliefproject.org
SUMMARY:Beginners Smartphone Photography
DESCRIPTION:Overview of the basic principles of photography for smartphones (camera basics\, framing\, lighting\, color tone) and how to use select Smartphone photography apps to capture and edit photos. \nRegister for the Beginners’ Smartphone Photography Course
URL:https://artistreliefproject.org/event/beginners-smartphone-photography-3/
LOCATION:Online
END:VEVENT
BEGIN:VEVENT
DTSTART;TZID=America/Chicago:20201210T183000
DTEND;TZID=America/Chicago:20201210T203000
DTSTAMP:20260420T105731
CREATED:20201129T133814Z
LAST-MODIFIED:20201129T133814Z
UID:1015-1607625000-1607632200@artistreliefproject.org
SUMMARY:Advanced Smartphone Video Editing
DESCRIPTION:How to create a short but compelling social media video with effects (transitions\, cut to music\, color correction\, text/ titles) using select smartphone video editing apps. \nRegister for the Advanced Smartphone Video Editing Course
URL:https://artistreliefproject.org/event/advanced-smartphone-video-editing-2/
LOCATION:Online
END:VEVENT
BEGIN:VEVENT
DTSTART;TZID=America/Chicago:20201209T190000
DTEND;TZID=America/Chicago:20201209T210000
DTSTAMP:20260420T105731
CREATED:20201130T091730Z
LAST-MODIFIED:20201130T091730Z
UID:1032-1607540400-1607547600@artistreliefproject.org
SUMMARY:Your Social Media Kit Discussion & Feedback Session
DESCRIPTION:An opportunity to discuss\, apply\, and receive feedback on a preliminary draft of a social media kit you may need for a project in the future. \nRegister for Your Social Media Kit Discussion & Feedback Session
URL:https://artistreliefproject.org/event/your-social-media-kit-discussion-feedback-session/
LOCATION:Online
END:VEVENT
BEGIN:VEVENT
DTSTART;TZID=America/Chicago:20201209T183000
DTEND;TZID=America/Chicago:20201209T200000
DTSTAMP:20260420T105731
CREATED:20201129T110523Z
LAST-MODIFIED:20201129T110523Z
UID:988-1607538600-1607544000@artistreliefproject.org
SUMMARY:Financial Planning Webinar: Building Your Financial Future
DESCRIPTION:Part of our Financial Planning Webinar Series\, a series designed to help you prepare and plan for your financial goals. \nLearn how to create spending plans to build assets for a solid financial future.\nThis webinar will cover:\n– The relationship between assets\, liabilities\, equity\, & net worth\n– Different categories of assets and how they can provide financial stability\n– Ways to afford assets and the relationship between credit\, loans\, and getting assets \nRegister for “Building Your Financial Future” Webinar
URL:https://artistreliefproject.org/event/financial-planning-webinar-building-your-financial-future/
LOCATION:Online
END:VEVENT
BEGIN:VEVENT
DTSTART;TZID=America/Chicago:20201208T190000
DTEND;TZID=America/Chicago:20201208T203000
DTSTAMP:20260420T105731
CREATED:20201130T091357Z
LAST-MODIFIED:20201130T091357Z
UID:1027-1607454000-1607459400@artistreliefproject.org
SUMMARY:Building a Social Media Kit Workshop
DESCRIPTION:Learn how to create a social media kit\, including outlining/ scheduling tasks and designing effective social media posts. \nRegister for Building a Social Media Kit Workshop
URL:https://artistreliefproject.org/event/building-a-social-media-kit-workshop/
LOCATION:Online
END:VEVENT
BEGIN:VEVENT
DTSTART;TZID=America/Chicago:20201208T183000
DTEND;TZID=America/Chicago:20201208T203000
DTSTAMP:20260420T105731
CREATED:20201129T133522Z
LAST-MODIFIED:20201129T133522Z
UID:1012-1607452200-1607459400@artistreliefproject.org
SUMMARY:Beginners Smartphone Video Editing
DESCRIPTION:Overview of the basics of using select apps to edit and create videos using your smartphone. \nRegister for the Beginners’ Smartphone Video Editing Course
URL:https://artistreliefproject.org/event/beginners-smartphone-video-editing-2/
LOCATION:Online
END:VEVENT
BEGIN:VEVENT
DTSTART;TZID=America/Chicago:20201203T183000
DTEND;TZID=America/Chicago:20201203T203000
DTSTAMP:20260420T105731
CREATED:20201129T123205Z
LAST-MODIFIED:20201129T123205Z
UID:1001-1607020200-1607027400@artistreliefproject.org
SUMMARY:Advanced Smartphone Photography (Subject: Inanimate Objects)
DESCRIPTION:Overview of the elements of a successful photo (composition\, exposure\, focus\, depth) and live class activity to create a successful photo of an inanimate object using select Smartphone photography apps. \nRegister for Advanced Smartphone Photography Workshop (Subject: Inanimate Objects)
URL:https://artistreliefproject.org/event/advanced-smartphone-photography-subject-inanimate-objects/
LOCATION:Online
END:VEVENT
BEGIN:VEVENT
DTSTART;TZID=America/Chicago:20201202T183000
DTEND;TZID=America/Chicago:20201202T200000
DTSTAMP:20260420T105731
CREATED:20201129T102917Z
LAST-MODIFIED:20201129T103546Z
UID:980-1606933800-1606939200@artistreliefproject.org
SUMMARY:Financial Planning Webinar: Your Money Values & Influences
DESCRIPTION:Part of our Financial Planning Webinar Series\, a series designed to help you plan your approach to finances for the year ahead. \nIdentify your values and how they influence your financial decisions.\nThis webinar will cover:\nHow to set goals related to your personal finances\nStrategies to control factors that influence personal spending \nRegister for Your Money Values & Influences Webinar
URL:https://artistreliefproject.org/event/financial-planning-webinar-your-money-values-influences/
LOCATION:Online
END:VEVENT
BEGIN:VEVENT
DTSTART;TZID=America/Chicago:20201201T190000
DTEND;TZID=America/Chicago:20201201T203000
DTSTAMP:20260420T105731
CREATED:20201130T080511Z
LAST-MODIFIED:20201130T080511Z
UID:1023-1606849200-1606854600@artistreliefproject.org
SUMMARY:Making Money Online: An Overview of Different Methods to Earn Income
DESCRIPTION:Learn about the different options available for earning income online\, including direct methods of providing products/ services and indirect methods such as advertising. \nRegister for “An Overview of Different Methods of Earning Income Online”
URL:https://artistreliefproject.org/event/making-money-online-an-overview-of-different-methods-to-earn-income/
LOCATION:Online
END:VEVENT
BEGIN:VEVENT
DTSTART;TZID=America/Chicago:20201201T183000
DTEND;TZID=America/Chicago:20201201T203000
DTSTAMP:20260420T105731
CREATED:20201129T122843Z
LAST-MODIFIED:20201129T123253Z
UID:999-1606847400-1606854600@artistreliefproject.org
SUMMARY:Beginners Smartphone Photography
DESCRIPTION:Overview of the basic principles of photography for smartphones (camera basics\, framing\, lighting\, color tone) and how to use select Smartphone photography apps to capture and edit photos. \nRegister for the Beginners’ Smartphone Photography Course
URL:https://artistreliefproject.org/event/beginners-smartphone-photography-2/
LOCATION:Online
END:VEVENT
BEGIN:VEVENT
DTSTART;VALUE=DATE:20201123
DTEND;VALUE=DATE:20201128
DTSTAMP:20260420T105731
CREATED:20201107T132033Z
LAST-MODIFIED:20201107T141147Z
UID:941-1606089600-1606521599@artistreliefproject.org
SUMMARY:FALL BREAK | No Classes Scheduled
DESCRIPTION:Happy Thanksgiving! \nSee you again in December.
URL:https://artistreliefproject.org/event/fall-break-no-classes-scheduled/
END:VEVENT
BEGIN:VEVENT
DTSTART;TZID=America/Chicago:20201119T183000
DTEND;TZID=America/Chicago:20201119T203000
DTSTAMP:20260420T105731
CREATED:20201104T135600Z
LAST-MODIFIED:20201104T135600Z
UID:903-1605810600-1605817800@artistreliefproject.org
SUMMARY:Advanced Smartphone Video Editing
DESCRIPTION:How to create a short but compelling social media video with effects (transitions\, cut to music\, color correction\, text/ titles) using select smartphone video editing apps. \nRegister for the Advanced Smartphone Video Editing Course.
URL:https://artistreliefproject.org/event/advanced-smartphone-video-editing/
LOCATION:Online
END:VEVENT
BEGIN:VEVENT
DTSTART;TZID=America/Chicago:20201118T190000
DTEND;TZID=America/Chicago:20201118T210000
DTSTAMP:20260420T105731
CREATED:20201106T125052Z
LAST-MODIFIED:20201106T135048Z
UID:919-1605726000-1605733200@artistreliefproject.org
SUMMARY:Presenting Online: Delivery & Performance Discussion & Feedback Session
DESCRIPTION:An opportunity to discuss\, apply\, and receive individual feedback on the skills learned in the Delivery & Performance Techniques workshop on November 16. \nRegister for the Delivery & Performance Discussion & Feedback Session.
URL:https://artistreliefproject.org/event/presenting-online-delivery-performance-discussion-feedback-session/
LOCATION:Online
END:VEVENT
BEGIN:VEVENT
DTSTART;TZID=America/Chicago:20201118T183000
DTEND;TZID=America/Chicago:20201118T200000
DTSTAMP:20260420T105731
CREATED:20201104T133750Z
LAST-MODIFIED:20201104T133750Z
UID:893-1605724200-1605729600@artistreliefproject.org
SUMMARY:Financial Wellness Webinar: Managing Debt
DESCRIPTION:Part of our Financial Wellness Webinar Series\, a series to help you plan and begin a process toward financial recovery. \nLearn about the different kinds of debt and strategies to reduce and manage them. \nHow debt works\nStrategies for reducing debt\nConsequences of not paying debt\nManaging specific types of debt (student loans\, medical debt\, high cost debt) \nRegister for the Managing Debt Webinar.
URL:https://artistreliefproject.org/event/financial-wellness-webinar-managing-debt/
LOCATION:Online
END:VEVENT
BEGIN:VEVENT
DTSTART;TZID=America/Chicago:20201117T190000
DTEND;TZID=America/Chicago:20201117T203000
DTSTAMP:20260420T105731
CREATED:20201112T135040Z
LAST-MODIFIED:20201112T135040Z
UID:957-1605639600-1605645000@artistreliefproject.org
SUMMARY:How to Engage Your Audience on Zoom
DESCRIPTION:Learn activities and techniques to make your Zoom meetings and presentations more engaging\, interactive\, and fun. \nRegister for How to Engage Your Audience on Zoom
URL:https://artistreliefproject.org/event/how-to-engage-your-audience-on-zoom/
LOCATION:Online
END:VEVENT
BEGIN:VEVENT
DTSTART;TZID=America/Chicago:20201117T183000
DTEND;TZID=America/Chicago:20201117T200000
DTSTAMP:20260420T105731
CREATED:20201104T135303Z
LAST-MODIFIED:20201104T135303Z
UID:901-1605637800-1605643200@artistreliefproject.org
SUMMARY:Beginners' Smartphone Video Editing
DESCRIPTION:Overview of the basics of using select apps to edit and create videos using your smartphone. \nRegister for the Beginners’ Smartphone Video Editing Course.
URL:https://artistreliefproject.org/event/beginners-smartphone-video-editing/
LOCATION:Online
END:VEVENT
BEGIN:VEVENT
DTSTART;TZID=America/Chicago:20201116T190000
DTEND;TZID=America/Chicago:20201116T203000
DTSTAMP:20260420T105731
CREATED:20201106T124648Z
LAST-MODIFIED:20201106T134914Z
UID:917-1605553200-1605558600@artistreliefproject.org
SUMMARY:Presenting Online: Delivery & Performance Techniques Workshop
DESCRIPTION:Learn speaking and performance techniques to deliver a compelling presentation online\, applicable to any style\, form\, and discipline.\n\nRegister for the Delivery & Performance Techniques workshop.
URL:https://artistreliefproject.org/event/presenting-online-delivery-performance-techniques/
LOCATION:Online
END:VEVENT
BEGIN:VEVENT
DTSTART;TZID=America/Chicago:20201116T183000
DTEND;TZID=America/Chicago:20201116T200000
DTSTAMP:20260420T105731
CREATED:20201104T135900Z
LAST-MODIFIED:20201104T135900Z
UID:905-1605551400-1605556800@artistreliefproject.org
SUMMARY:Filmmaking Equipment for Smartphones & Web Meetings
DESCRIPTION:Learn about budget-friendly video and photography equipment options and setups for smartphones and web meetings (tripods\, lighting kits\, microphones\, lenses\, web cams\, rigs\, and so forth). \nRegister for the Filmmaking Equipment Workshop.
URL:https://artistreliefproject.org/event/filmmaking-equipment-for-smartphones-web-meetings/
LOCATION:Online
END:VEVENT
BEGIN:VEVENT
DTSTART;TZID=America/Chicago:20201114T130000
DTEND;TZID=America/Chicago:20201114T150000
DTSTAMP:20260420T105731
CREATED:20201104T134022Z
LAST-MODIFIED:20201104T134022Z
UID:895-1605358800-1605366000@artistreliefproject.org
SUMMARY:Zoom Basics Crash Course
DESCRIPTION:Learn the basic features of Zoom and the different options/ settings available for hosting web meetings on the platform. \nRegister for the Zoom Basics Crash Course.
URL:https://artistreliefproject.org/event/zoom-basics-crash-course/
LOCATION:Online
END:VEVENT
BEGIN:VEVENT
DTSTART;TZID=America/Chicago:20201112T183000
DTEND;TZID=America/Chicago:20201112T203000
DTSTAMP:20260420T105731
CREATED:20201104T134659Z
LAST-MODIFIED:20201104T134659Z
UID:899-1605205800-1605213000@artistreliefproject.org
SUMMARY:Advanced Smartphone Photography
DESCRIPTION:Overview of the elements of a successful photo (composition\, exposure\, focus\, depth) and live class activity to create a successful portrait using select Smartphone photography apps. \nRegister for the Advanced Smartphone Photography Course.
URL:https://artistreliefproject.org/event/advanced-smartphone-photography/
LOCATION:Online
END:VEVENT
BEGIN:VEVENT
DTSTART;TZID=America/Chicago:20201111T190000
DTEND;TZID=America/Chicago:20201111T210000
DTSTAMP:20260420T105731
CREATED:20201106T124456Z
LAST-MODIFIED:20201106T134724Z
UID:915-1605121200-1605128400@artistreliefproject.org
SUMMARY:Presenting Online: Presentation Styles & Structure Discussion & Feedback Session
DESCRIPTION:An opportunity to discuss\, apply\, and receive individual feedback on the skills learned in the Presentation Styles & Structure workshop on November 9.\n\nRegister for the Styles & Structure Discussion & Feedback Session.
URL:https://artistreliefproject.org/event/presenting-online-discussion-feedback-session-styles-structure/
LOCATION:Online
END:VEVENT
BEGIN:VEVENT
DTSTART;TZID=America/Chicago:20201110T183000
DTEND;TZID=America/Chicago:20201110T200000
DTSTAMP:20260420T105731
CREATED:20201104T133232Z
LAST-MODIFIED:20201104T133433Z
UID:889-1605033000-1605038400@artistreliefproject.org
SUMMARY:Financial Wellness Webinar: Credit Reports & Scores
DESCRIPTION:Part of our Financial Wellness Webinar Series\, a series to help you plan and begin a process toward financial recovery. \nLearn how to understand\, access\, and improve your credit reports and scores. \n\nHow credit history impacts access to credit\, loans\, and other services\nHow to build\, repair\, improve\, and maintain credit\nHow credit scores are calculated\nHow and where to get help with credit reports & scores \n\nRegister for the Credit Reports & Scores Webinar.
URL:https://artistreliefproject.org/event/financial-wellness-webinar-credit-reports-scores-2/
LOCATION:Online
END:VEVENT
BEGIN:VEVENT
DTSTART;TZID=America/Chicago:20201109T190000
DTEND;TZID=America/Chicago:20201109T203000
DTSTAMP:20260420T105731
CREATED:20201106T124019Z
LAST-MODIFIED:20201106T134553Z
UID:913-1604948400-1604953800@artistreliefproject.org
SUMMARY:Presenting Online: Presentation Styles & Structure Workshop
DESCRIPTION:Learn about different public speaking and presentation styles and how to structure a presentation in a compelling way. \nRegister for the Presentations Styles & Structure Workshop.
URL:https://artistreliefproject.org/event/presenting-online-presentation-styles-structure/
LOCATION:Online
END:VEVENT
BEGIN:VEVENT
DTSTART;TZID=America/Chicago:20201109T183000
DTEND;TZID=America/Chicago:20201109T200000
DTSTAMP:20260420T105731
CREATED:20201104T134339Z
LAST-MODIFIED:20201104T134339Z
UID:897-1604946600-1604952000@artistreliefproject.org
SUMMARY:Beginners' Smartphone Photography
DESCRIPTION:Overview of the basic principles of photography for smartphones (camera basics\, framing\, lighting\, color tone) and how to use select Smartphone photography apps to capture and edit photos. \nRegister for the Beginners’ Smartphone Photography Course.
URL:https://artistreliefproject.org/event/beginners-smartphone-photography/
LOCATION:Online
END:VEVENT
BEGIN:VEVENT
DTSTART;TZID=America/Chicago:20201029T183000
DTEND;TZID=America/Chicago:20201029T200000
DTSTAMP:20260420T105731
CREATED:20201011T134037Z
LAST-MODIFIED:20201013T022233Z
UID:845-1603996200-1604001600@artistreliefproject.org
SUMMARY:Smartphone Filmmaking Accessories & Equipment Online Workshop
DESCRIPTION:Part of our 4-part Smartphone Filmmaking Workshop for Artists Workshop Series. \nLearn about budget-friendly smartphone filmmaking equipment and accessories. \nRegister for Smartphone Filmmaking Series
URL:https://artistreliefproject.org/event/smartphone-filmmaking-accessories-equipment-online-workshop-2/
LOCATION:Online
END:VEVENT
BEGIN:VEVENT
DTSTART;TZID=America/Chicago:20201028T190000
DTEND;TZID=America/Chicago:20201028T203000
DTSTAMP:20260420T105731
CREATED:20201010T174402Z
LAST-MODIFIED:20201011T134759Z
UID:836-1603911600-1603917000@artistreliefproject.org
SUMMARY:Balancing Social Media in Your Schedule Online Workshop
DESCRIPTION:Part 4 of our 4-part interactive online workshop series “How to Build Your Online Community.” \nIdentify which channels/ platforms you should focus on to reach your audience and how to balance them in your schedule. \nRegister for the “Build Your Online Community” workshop series.
URL:https://artistreliefproject.org/event/balancing-social-media-in-your-schedule/
LOCATION:Online
END:VEVENT
BEGIN:VEVENT
DTSTART;TZID=America/Chicago:20201028T183000
DTEND;TZID=America/Chicago:20201028T200000
DTSTAMP:20260420T105731
CREATED:20200930T235413Z
LAST-MODIFIED:20201001T000849Z
UID:791-1603909800-1603915200@artistreliefproject.org
SUMMARY:Small Business Financial Webinar: How Businesses Use Credit
DESCRIPTION:Part of our 4-part Financial Empowerment Webinar Series for Small Businesses\, Freelance Workers\, and Independent Contractors \nLearn about the types of credit available to a small business owner. \nRegister for How Businesses Use Credit Webinar
URL:https://artistreliefproject.org/event/small-business-financial-webinar-how-businesses-use-credit/
LOCATION:Online
END:VEVENT
BEGIN:VEVENT
DTSTART;TZID=America/Chicago:20201027T190000
DTEND;TZID=America/Chicago:20201027T203000
DTSTAMP:20260420T105731
CREATED:20201010T173558Z
LAST-MODIFIED:20201011T134717Z
UID:828-1603825200-1603830600@artistreliefproject.org
SUMMARY:Connecting with Your Audience via Zoom Online Workshop
DESCRIPTION:Part 4 of our 4-part Zoom Basics for Artists\, Musicians\, & Performers series. \nLearn how to use Zoom features and presentation style to accommodate and appeal to different audiences. \nRegister for the Zoom Basics series.
URL:https://artistreliefproject.org/event/connecting-with-your-audience-via-zoom/
LOCATION:Online
END:VEVENT
BEGIN:VEVENT
DTSTART;TZID=America/Chicago:20201027T183000
DTEND;TZID=America/Chicago:20201027T200000
DTSTAMP:20260420T105731
CREATED:20201011T133909Z
LAST-MODIFIED:20201013T022155Z
UID:843-1603823400-1603828800@artistreliefproject.org
SUMMARY:Smartphone Video Editing Online Workshop
DESCRIPTION:Part of our 4-part Smartphone Filmmaking for Artists Online Workshop Series \nLearn the basic principles of editing videos using select Smartphone apps. \nRegister for Smartphone Filmmaking Series.
URL:https://artistreliefproject.org/event/smartphone-video-editing-online-workshop-3/
LOCATION:Online
END:VEVENT
END:VCALENDAR