BEGIN:VCALENDAR
VERSION:2.0
PRODID:-//Artist Relief Project - ECPv6.15.14//NONSGML v1.0//EN
CALSCALE:GREGORIAN
METHOD:PUBLISH
X-ORIGINAL-URL:https://artistreliefproject.org
X-WR-CALDESC:Events for Artist Relief Project
REFRESH-INTERVAL;VALUE=DURATION:PT1H
X-Robots-Tag:noindex
X-PUBLISHED-TTL:PT1H
BEGIN:VTIMEZONE
TZID:America/Chicago
BEGIN:DAYLIGHT
TZOFFSETFROM:-0600
TZOFFSETTO:-0500
TZNAME:CDT
DTSTART:20200308T080000
END:DAYLIGHT
BEGIN:STANDARD
TZOFFSETFROM:-0500
TZOFFSETTO:-0600
TZNAME:CST
DTSTART:20201101T070000
END:STANDARD
BEGIN:DAYLIGHT
TZOFFSETFROM:-0600
TZOFFSETTO:-0500
TZNAME:CDT
DTSTART:20210314T080000
END:DAYLIGHT
BEGIN:STANDARD
TZOFFSETFROM:-0500
TZOFFSETTO:-0600
TZNAME:CST
DTSTART:20211107T070000
END:STANDARD
BEGIN:DAYLIGHT
TZOFFSETFROM:-0600
TZOFFSETTO:-0500
TZNAME:CDT
DTSTART:20220313T080000
END:DAYLIGHT
BEGIN:STANDARD
TZOFFSETFROM:-0500
TZOFFSETTO:-0600
TZNAME:CST
DTSTART:20221106T070000
END:STANDARD
END:VTIMEZONE
BEGIN:VEVENT
DTSTART;TZID=America/Chicago:20210415T190000
DTEND;TZID=America/Chicago:20210415T203000
DTSTAMP:20260420T025506
CREATED:20210401T125450Z
LAST-MODIFIED:20210401T125628Z
UID:1360-1618513200-1618518600@artistreliefproject.org
SUMMARY:II. Writing About Your Proposed Project (2)
DESCRIPTION:Part 2 of the Preparing for Arts Grant Applications series \nA 2-part hands-on workshop to help you begin drafting the project statement for your grant application. (Note: Workshop will be delivered across two dates.) \nRegister for Writing about Your Proposed Project
URL:https://artistreliefproject.org/event/ii-writing-about-your-proposed-project-2/
LOCATION:Online
END:VEVENT
BEGIN:VEVENT
DTSTART;TZID=America/Chicago:20210415T183000
DTEND;TZID=America/Chicago:20210415T200000
DTSTAMP:20260420T025506
CREATED:20210411T231818Z
LAST-MODIFIED:20210411T231818Z
UID:1401-1618511400-1618516800@artistreliefproject.org
SUMMARY:Smartphone Video Editing: Using Templates on FilmoraGo
DESCRIPTION:A live hands-on workshop and in-class activity using templates on FilmoraGo to create and edit videos on your Smartphone. \nRegister for Using Templates on FilmoraGo
URL:https://artistreliefproject.org/event/smartphone-video-editing-using-templates-on-filmorago/
LOCATION:Online
END:VEVENT
BEGIN:VEVENT
DTSTART;TZID=America/Chicago:20210414T183000
DTEND;TZID=America/Chicago:20210414T200000
DTSTAMP:20260420T025506
CREATED:20210330T122346Z
LAST-MODIFIED:20210330T122346Z
UID:1342-1618425000-1618430400@artistreliefproject.org
SUMMARY:Financial Wellness Webinar: Your Credit Reports & Scores
DESCRIPTION:A basic introduction on how to better understand\, access\, and improve your credit reports and scores. \n\nHow credit scores are calculated\nHow to access\, review\, and dispute errors in credit reports\nHow to repair\, improve\, and maintain credit\nWhere to get help with credit reports and scores\n\nRegister for Your Credit Reports & Scores Webinar
URL:https://artistreliefproject.org/event/financial-wellness-webinar-your-credit-reports-scores/
LOCATION:Online
END:VEVENT
BEGIN:VEVENT
DTSTART;TZID=America/Chicago:20210413T190000
DTEND;TZID=America/Chicago:20210413T203000
DTSTAMP:20260420T025506
CREATED:20210401T125325Z
LAST-MODIFIED:20210401T125534Z
UID:1358-1618340400-1618345800@artistreliefproject.org
SUMMARY:II. Writing About Your Proposed Project (1)
DESCRIPTION:Part 2 of the Preparing for Arts Grant Applications series \nA 2-part hands-on workshop to help you begin drafting the project statement for your grant application. (Note: Workshop will be delivered across two dates.) \nRegister for Writing about Your Proposed Project
URL:https://artistreliefproject.org/event/ii-writing-about-your-proposed-project/
LOCATION:Online
END:VEVENT
BEGIN:VEVENT
DTSTART;TZID=America/Chicago:20210413T183000
DTEND;TZID=America/Chicago:20210413T200000
DTSTAMP:20260420T025506
CREATED:20210411T231604Z
LAST-MODIFIED:20210411T231604Z
UID:1399-1618338600-1618344000@artistreliefproject.org
SUMMARY:Smartphone Video Editing: Introduction to FilmoraGo
DESCRIPTION:Introduction to FilmoraGo and the basics of using this app to edit videos on your Smartphone. \nRegister for Introduction to FilmoraGo
URL:https://artistreliefproject.org/event/smartphone-video-editing-introduction-to-filmorago/
LOCATION:Online
END:VEVENT
BEGIN:VEVENT
DTSTART;TZID=America/Chicago:20210408T190000
DTEND;TZID=America/Chicago:20210408T203000
DTSTAMP:20260420T025506
CREATED:20210330T121834Z
LAST-MODIFIED:20210330T121834Z
UID:1340-1617908400-1617913800@artistreliefproject.org
SUMMARY:Evening Discussion on Virtual Performance
DESCRIPTION:Our monthly peer discussion and exchange looking at examples of theater\, spoken word\, and music succeeding and surviving virtually. \nAll are welcome to attend. It is not necessary or required that you have attended previous sessions to join us this month. \nRegister for Evening Discussion on Virtual Performance (Session #4)
URL:https://artistreliefproject.org/event/evening-discussion-on-virtual-performance-3/
LOCATION:Online
END:VEVENT
BEGIN:VEVENT
DTSTART;TZID=America/Chicago:20210408T183000
DTEND;TZID=America/Chicago:20210408T200000
DTSTAMP:20260420T025506
CREATED:20210405T040746Z
LAST-MODIFIED:20210405T040746Z
UID:1376-1617906600-1617912000@artistreliefproject.org
SUMMARY:Smartphone Editing: Creating a Promotional Flyer with CANVA
DESCRIPTION:A live hands-on workshop on using the CANVA mobile app to create a flyer that can be used to promote your project\, work\, or event. \nRegister for Creating a Promotional Flyer with CANVA workshop.
URL:https://artistreliefproject.org/event/smartphone-editing-creating-a-promotional-flyer-with-canva/
LOCATION:Online
END:VEVENT
BEGIN:VEVENT
DTSTART;TZID=America/Chicago:20210407T183000
DTEND;TZID=America/Chicago:20210407T200000
DTSTAMP:20260420T025506
CREATED:20210401T124548Z
LAST-MODIFIED:20210401T124655Z
UID:1353-1617820200-1617825600@artistreliefproject.org
SUMMARY:The Art of the CV
DESCRIPTION:Constructing a Professional CV/ Resume for Visual and Performing Artists \nHow to construct and maintain a running professional CV with proper formatting\, content\, and organization for the purposes of applying to various positions and opportunities as a visual or performing artist. \nRegister for Art of the CV Workshop
URL:https://artistreliefproject.org/event/the-art-of-the-cv/
LOCATION:Online
END:VEVENT
BEGIN:VEVENT
DTSTART;TZID=America/Chicago:20210406T190000
DTEND;TZID=America/Chicago:20210406T203000
DTSTAMP:20260420T025506
CREATED:20210401T124951Z
LAST-MODIFIED:20210401T124951Z
UID:1356-1617735600-1617741000@artistreliefproject.org
SUMMARY:I. Your Grant Application "To-Do" List
DESCRIPTION:Part 1 of the Preparing for Arts Grant Applications series \nA general overview and “to-do” list addressing common formats and tasks necessary for submitting arts grant applications. \nRegister for Your Grant Application “To-Do” List
URL:https://artistreliefproject.org/event/i-your-grant-application-to-do-list/
LOCATION:Online
END:VEVENT
BEGIN:VEVENT
DTSTART;TZID=America/Chicago:20210401T190000
DTEND;TZID=America/Chicago:20210401T203000
DTSTAMP:20260420T025506
CREATED:20210329T052632Z
LAST-MODIFIED:20210329T054841Z
UID:1319-1617303600-1617309000@artistreliefproject.org
SUMMARY:The Role of Your Art in Society
DESCRIPTION:An opportunity to explore your questions and concerns about the role of your art in society (from community impact to promotion). \nThis session will open discussion about the material and concepts discussed in the following workshop series:\n\n\nIntro to Artivism\nScripting Your Promotional Video\nDeveloping Your Social Media Campaign \nRegister for The Role of Your Art in Society Q & A Session
URL:https://artistreliefproject.org/event/the-role-of-your-art-in-society/
LOCATION:Online
END:VEVENT
BEGIN:VEVENT
DTSTART;TZID=America/Chicago:20210330T183000
DTEND;TZID=America/Chicago:20210330T203000
DTSTAMP:20260420T025506
CREATED:20210329T043605Z
LAST-MODIFIED:20210329T043605Z
UID:1313-1617129000-1617136200@artistreliefproject.org
SUMMARY:Smartphone Editing Open Q & A
DESCRIPTION:An open Q & A on the Smartphone apps we’ve covered in ARP classes. If you have lingering questions about the apps from any of our previous Smartphone photography\, video\, and/ or editing workshops\, this Q & A session is perfect for you. \nRegister for the Smartphone Editing Open Q & A Session.
URL:https://artistreliefproject.org/event/smartphone-editing-open-q-a/
LOCATION:Online
END:VEVENT
BEGIN:VEVENT
DTSTART;TZID=America/Chicago:20210325T190000
DTEND;TZID=America/Chicago:20210325T203000
DTSTAMP:20260420T025506
CREATED:20210322T120224Z
LAST-MODIFIED:20210322T120311Z
UID:1305-1616698800-1616704200@artistreliefproject.org
SUMMARY:Drafting Your Company Description for Your Business Plan
DESCRIPTION:Through informative instruction\, a sample template\, and creative exercises\, you will begin drafting the Company Description and Executive Summary for your Business Plan and have the opportunity to test out ideas and receive feedback. \n(Note: It is recommended but not required that you attend the “Developing a Business Plan” webinar on Wednesday\, March 24\, from 6:30 to 8:00p CST prior to attending this workshop.) \n\n\nRegister for Drafting Your Company Description Workshop.
URL:https://artistreliefproject.org/event/drafting-your-company-description-for-your-business-plan/
LOCATION:Online
END:VEVENT
BEGIN:VEVENT
DTSTART;TZID=America/Chicago:20210325T183000
DTEND;TZID=America/Chicago:20210325T200000
DTSTAMP:20260420T025506
CREATED:20210301T060903Z
LAST-MODIFIED:20210301T060903Z
UID:1267-1616697000-1616702400@artistreliefproject.org
SUMMARY:Smartphone Video Editing: VN Editor Social Media Templates
DESCRIPTION:Part of our Smartphone Video Editing Series teaching how to transform your Smartphone into a professional tool to capture and edit compelling videos using select (free) video editing apps. \nA live hands-on workshop and in-class activity using templates on VN Video Editor to create engaging social media content to promote yourself and your work. \nRegister for VN Editor Social Media Templates
URL:https://artistreliefproject.org/event/smartphone-video-editing-vn-editor-social-media-templates/
LOCATION:Online
END:VEVENT
BEGIN:VEVENT
DTSTART;TZID=America/Chicago:20210324T183000
DTEND;TZID=America/Chicago:20210324T200000
DTSTAMP:20260420T025506
CREATED:20210218T202237Z
LAST-MODIFIED:20210222T125920Z
UID:1215-1616610600-1616616000@artistreliefproject.org
SUMMARY:Small Business Financial Tools: Developing a Business Plan
DESCRIPTION:This webinar will provide an overview of the eight parts of a business plan and discuss what to consider when writing a business plan. \nRegister for Developing a Business Plan
URL:https://artistreliefproject.org/event/small-business-financial-tools-developing-a-business-plan/
LOCATION:Online
END:VEVENT
BEGIN:VEVENT
DTSTART;TZID=America/Chicago:20210323T183000
DTEND;TZID=America/Chicago:20210323T200000
DTSTAMP:20260420T025506
CREATED:20210301T060527Z
LAST-MODIFIED:20210301T060556Z
UID:1264-1616524200-1616529600@artistreliefproject.org
SUMMARY:Smartphone Video Editing: Basics of VN Editor
DESCRIPTION:Part of our Smartphone Video Editing Series teaching how to transform your Smartphone into a professional tool to capture and edit compelling videos using select (free) video editing apps. \nAn overview of the VN Video Editor app and the basics of how to edit videos on your smartphone.  \nRegister for Basics of VN Video Editor
URL:https://artistreliefproject.org/event/smartphone-video-editing-basics-of-vn-editor/
LOCATION:Online
END:VEVENT
BEGIN:VEVENT
DTSTART;TZID=America/Chicago:20210318T190000
DTEND;TZID=America/Chicago:20210318T203000
DTSTAMP:20260420T025506
CREATED:20210307T214116Z
LAST-MODIFIED:20210307T214207Z
UID:1285-1616094000-1616099400@artistreliefproject.org
SUMMARY:Press Releases for Artists
DESCRIPTION:Learn how to do your own press. \nThis webinar will teach you effective ways to generate press about your upcoming projects (whether it’s a show\, song\, product\, event\, etc.) \nIt will cover topics such as:\n– What goes into a press release?\n– Can I write and send my own?\n– How do you get press to notice? \n\n\nRegister for Press Releases for Artists
URL:https://artistreliefproject.org/event/press-releases-for-artists/
LOCATION:Online
END:VEVENT
BEGIN:VEVENT
DTSTART;TZID=America/Chicago:20210317T190000
DTEND;TZID=America/Chicago:20210317T210000
DTSTAMP:20260420T025506
CREATED:20210222T124700Z
LAST-MODIFIED:20210222T125755Z
UID:1227-1616007600-1616014800@artistreliefproject.org
SUMMARY:Share Your Campaign Discussion & Feedback Session 2
DESCRIPTION:Part 4 of the Developing Your Social Media Campaign series \nAn interactive opportunity to share ideas/ drafts for your social media campaign and receive constructive feedback from your instructor and community of artists. \nRegister for this Discussion & Feedback Session
URL:https://artistreliefproject.org/event/share-your-campaign-discussion-feedback-session-2/
LOCATION:Online
END:VEVENT
BEGIN:VEVENT
DTSTART;TZID=America/Chicago:20210317T183000
DTEND;TZID=America/Chicago:20210317T200000
DTSTAMP:20260420T025506
CREATED:20210310T004531Z
LAST-MODIFIED:20210310T004531Z
UID:1299-1616005800-1616011200@artistreliefproject.org
SUMMARY:Smartphone Design & Editing: CANVA Templates & Animation
DESCRIPTION:Learn about the different templates and animation styles available on the CANVA app and how to create an animated social media post that can be used to promote your work. \nRegister for CANVA Templates & Animation
URL:https://artistreliefproject.org/event/smartphone-design-editing-canva-templates-animation/
LOCATION:Online
END:VEVENT
BEGIN:VEVENT
DTSTART;TZID=America/Chicago:20210316T190000
DTEND;TZID=America/Chicago:20210316T210000
DTSTAMP:20260420T025506
CREATED:20210222T124529Z
LAST-MODIFIED:20210222T125613Z
UID:1225-1615921200-1615928400@artistreliefproject.org
SUMMARY:Share Your Campaign Discussion & Feedback Session 1
DESCRIPTION:Part 4 of the Developing Your Social Media Campaign series \nAn interactive opportunity to share ideas/ drafts for your social media campaign and receive constructive feedback from your instructor and community of artists. \nRegister for this Discussion & Feedback Session
URL:https://artistreliefproject.org/event/share-your-campaign-discussion-feedback-session/
LOCATION:Online
END:VEVENT
BEGIN:VEVENT
DTSTART;TZID=America/Chicago:20210316T183000
DTEND;TZID=America/Chicago:20210316T200000
DTSTAMP:20260420T025506
CREATED:20210310T004237Z
LAST-MODIFIED:20210310T004237Z
UID:1297-1615919400-1615924800@artistreliefproject.org
SUMMARY:Smartphone Design & Editing: Basics of CANVA
DESCRIPTION:Learn the basics of the CANVA graphic design & editing mobile app and how to create a simple graphic design working with photos\, elements\, and text. \nRegister for Basics of Canva
URL:https://artistreliefproject.org/event/smartphone-design-editing-basics-of-canva/
LOCATION:Online
END:VEVENT
BEGIN:VEVENT
DTSTART;TZID=America/Chicago:20210311T190000
DTEND;TZID=America/Chicago:20210311T203000
DTSTAMP:20260420T025506
CREATED:20210301T051436Z
LAST-MODIFIED:20210301T051436Z
UID:1258-1615489200-1615494600@artistreliefproject.org
SUMMARY:Evening Discussion on Virtual Performance Session #3
DESCRIPTION:Grab your coffee mugs and/ or wine glasses for a night of reflection and creative problem-solving! \nDuring these sessions\, we discuss examples of theater\, spoken word\, and music succeeding and surviving virtually. We also brainstorm solutions to overcome perceived limitations of transitioning live performing arts to the internet. \nAll are welcome to attend\, especially artists and creatives looking to make their online spaces more theatrical and performance-oriented and to expand their networks. \nRegister for Evening Discussion on Virtual Performance Session #3
URL:https://artistreliefproject.org/event/evening-discussion-on-virtual-performance-session-3/
LOCATION:Online
END:VEVENT
BEGIN:VEVENT
DTSTART;TZID=America/Chicago:20210311T183000
DTEND;TZID=America/Chicago:20210311T200000
DTSTAMP:20260420T025506
CREATED:20210301T043523Z
LAST-MODIFIED:20210301T043626Z
UID:1250-1615487400-1615492800@artistreliefproject.org
SUMMARY:Smartphone Photography: Creating Collages with PIXLR
DESCRIPTION:Part of our Smartphone Photography Series teaching how to transform your Smartphone into a professional tool to capture and edit compelling images using select (free) mobile apps. \nLive hands-on workshop and in-class activity using the PIXLR photo editing app to create photo collages that can be used to promote yourself and your work on social media. \nRegister for Creating Photo Collages with PIXLR
URL:https://artistreliefproject.org/event/smartphone-photography-creating-collages-with-pixlr/
LOCATION:Online
END:VEVENT
BEGIN:VEVENT
DTSTART;TZID=America/Chicago:20210310T183000
DTEND;TZID=America/Chicago:20210310T200000
DTSTAMP:20260420T025506
CREATED:20210218T193814Z
LAST-MODIFIED:20210222T125528Z
UID:1210-1615401000-1615406400@artistreliefproject.org
SUMMARY:Financial Wellness Webinar: Your Income & Expenses
DESCRIPTION:This webinar will discuss different types of personal income\, share a tool for tracking personal income\, and provide info and tools for tracking and managing personal expenses. \nRegister for Your Personal Income & Expenses
URL:https://artistreliefproject.org/event/financial-wellness-webinar-your-income-expenses/
LOCATION:Online
END:VEVENT
BEGIN:VEVENT
DTSTART;TZID=America/Chicago:20210309T190000
DTEND;TZID=America/Chicago:20210309T203000
DTSTAMP:20260420T025506
CREATED:20210222T124246Z
LAST-MODIFIED:20210222T125318Z
UID:1223-1615316400-1615321800@artistreliefproject.org
SUMMARY:Developing Compelling Posts for Your Social Media Campaign
DESCRIPTION:Part 3 of the Developing Your Social Media Campaign series \nA hands-on workshop to help you draft ideas for compelling social media posts and begin designing a carousel post that can be used in your campaign. \nRegister for Developing Compelling Posts for Your Social Media Campaign workshop
URL:https://artistreliefproject.org/event/developing-compelling-posts-for-your-social-media-campaign/
LOCATION:Online
END:VEVENT
BEGIN:VEVENT
DTSTART;TZID=America/Chicago:20210309T183000
DTEND;TZID=America/Chicago:20210309T203000
DTSTAMP:20260420T025506
CREATED:20210304T002140Z
LAST-MODIFIED:20210304T002140Z
UID:1279-1615314600-1615321800@artistreliefproject.org
SUMMARY:Smartphone Video Editing: Rush vs. Cap Cut
DESCRIPTION:Part of our Smartphone Video Editing Series teaching how to transform your Smartphone into a professional tool to capture and edit compelling videos using select (free) video editing apps. \nA refresher course and side-by-side comparison on the pros and cons of the Adobe Premiere Rush and Cap Cut video editing apps. \nRegister for Rush vs Cap Cut.
URL:https://artistreliefproject.org/event/smartphone-video-editing-rush-vs-cap-cut/
LOCATION:Online
END:VEVENT
BEGIN:VEVENT
DTSTART;TZID=America/Chicago:20210304T190000
DTEND;TZID=America/Chicago:20210304T203000
DTSTAMP:20260420T025506
CREATED:20210222T124021Z
LAST-MODIFIED:20210222T125216Z
UID:1221-1614884400-1614889800@artistreliefproject.org
SUMMARY:Outlining & Scheduling Tasks for Your Social Media Campaign
DESCRIPTION:Part 2 of the Developing Your Social Media Campaign series \nA hands-on workshop to help you set goals and deadlines for important tasks in your month-long social media campaign. \nRegister for Outlining & Scheduling Tasks workshop
URL:https://artistreliefproject.org/event/outlining-scheduling-tasks-for-your-social-media-campaign/
LOCATION:Online
END:VEVENT
BEGIN:VEVENT
DTSTART;TZID=America/Chicago:20210304T183000
DTEND;TZID=America/Chicago:20210304T200000
DTSTAMP:20260420T025506
CREATED:20210301T044119Z
LAST-MODIFIED:20210301T044119Z
UID:1254-1614882600-1614888000@artistreliefproject.org
SUMMARY:Smartphone Photography: Lightroom vs. Snapseed
DESCRIPTION:Part of our Smartphone Photography Series teaching how to transform your Smartphone into a professional tool to capture and edit compelling images using select (free) mobile apps. \nRefresher course and side-by-side comparison on the pros and cons of the Adobe Lightroom and Snapseed photo editing apps. \nRegister for Lightroom vs. Snapseed \n 
URL:https://artistreliefproject.org/event/smartphone-photography-lightroom-vs-snapseed/
LOCATION:Online
END:VEVENT
BEGIN:VEVENT
DTSTART;TZID=America/Chicago:20210302T190000
DTEND;TZID=America/Chicago:20210302T203000
DTSTAMP:20260420T025506
CREATED:20210222T123749Z
LAST-MODIFIED:20210222T125119Z
UID:1219-1614711600-1614717000@artistreliefproject.org
SUMMARY:Building a Social Media Kit: The "Big Ideas"
DESCRIPTION:Part 1 of the Developing Your Social Media Campaign Series \nAn introductory lesson on building an effective social media campaign and developing the “big ideas” to form the general shape of your campaign. \nRegister for Building a Social Media Kit
URL:https://artistreliefproject.org/event/building-a-social-media-kit-the-big-ideas/
LOCATION:Online
END:VEVENT
BEGIN:VEVENT
DTSTART;TZID=America/Chicago:20210302T183000
DTEND;TZID=America/Chicago:20210302T200000
DTSTAMP:20260420T025506
CREATED:20210301T043207Z
LAST-MODIFIED:20210301T043733Z
UID:1248-1614709800-1614715200@artistreliefproject.org
SUMMARY:Smartphone Photography: Basics of PIXLR
DESCRIPTION:Part of our Smartphone Photography Series teaching how to transform your Smartphone into a professional tool to capture and edit compelling images using select (free) mobile apps. \nAn overview of PIXLR mobile photo editing app. \nRegister for Basics of PIXLR
URL:https://artistreliefproject.org/event/smartphone-photography-basics-of-pixlr/
LOCATION:Online
END:VEVENT
BEGIN:VEVENT
DTSTART;TZID=America/Chicago:20210225T190000
DTEND;TZID=America/Chicago:20210225T203000
DTSTAMP:20260420T025506
CREATED:20210207T234324Z
LAST-MODIFIED:20210222T130850Z
UID:1197-1614279600-1614285000@artistreliefproject.org
SUMMARY:Share Your Script Feedback Session 2
DESCRIPTION:Part 3 of the Scripting Your Promotional Video 3-Part Series \nAn interactive opportunity to share ideas for your script and receive constructive feedback from your instructor and community of artists. \nRegister for Feb 25 Share Your Script Session
URL:https://artistreliefproject.org/event/share-your-script-feedback-session-2/
LOCATION:Online
END:VEVENT
END:VCALENDAR